BEGIN:VCALENDAR
VERSION:2.0
PRODID:-//South Carolina Bluebird Society - ECPv6.15.20//NONSGML v1.0//EN
CALSCALE:GREGORIAN
METHOD:PUBLISH
X-ORIGINAL-URL:https://southcarolinabluebirds.org
X-WR-CALDESC:Events for South Carolina Bluebird Society
REFRESH-INTERVAL;VALUE=DURATION:PT1H
X-Robots-Tag:noindex
X-PUBLISHED-TTL:PT1H
BEGIN:VTIMEZONE
TZID:UTC
BEGIN:STANDARD
TZOFFSETFROM:+0000
TZOFFSETTO:+0000
TZNAME:UTC
DTSTART:20240101T000000
END:STANDARD
END:VTIMEZONE
BEGIN:VEVENT
DTSTART;TZID=UTC:20250503T130000
DTEND;TZID=UTC:20250503T140000
DTSTAMP:20260424T175401
CREATED:20250331T112424Z
LAST-MODIFIED:20250331T112424Z
UID:3274-1746277200-1746280800@southcarolinabluebirds.org
SUMMARY:Wild Hearts Equine Therapeutic Center | Seneca SC
DESCRIPTION:
URL:https://southcarolinabluebirds.org/event/wild-hearts-equine-therapeutic-center-seneca-sc/
CATEGORIES:Presentations
END:VEVENT
BEGIN:VEVENT
DTSTART;TZID=UTC:20250503T170000
DTEND;TZID=UTC:20250503T180000
DTSTAMP:20260424T175401
CREATED:20250107T164305Z
LAST-MODIFIED:20250107T164305Z
UID:3159-1746291600-1746295200@southcarolinabluebirds.org
SUMMARY:Anderson Farms | Aiken SC 29803
DESCRIPTION:
URL:https://southcarolinabluebirds.org/event/anderson-farms-aiken-sc-29803/
CATEGORIES:Presentations
END:VEVENT
END:VCALENDAR