BEGIN:VCALENDAR
VERSION:2.0
PRODID:-//South Carolina Bluebird Society - ECPv6.15.20//NONSGML v1.0//EN
CALSCALE:GREGORIAN
METHOD:PUBLISH
X-WR-CALNAME:South Carolina Bluebird Society
X-ORIGINAL-URL:https://southcarolinabluebirds.org
X-WR-CALDESC:Events for South Carolina Bluebird Society
REFRESH-INTERVAL;VALUE=DURATION:PT1H
X-Robots-Tag:noindex
X-PUBLISHED-TTL:PT1H
BEGIN:VTIMEZONE
TZID:UTC
BEGIN:STANDARD
TZOFFSETFROM:+0000
TZOFFSETTO:+0000
TZNAME:UTC
DTSTART:20250101T000000
END:STANDARD
END:VTIMEZONE
BEGIN:VEVENT
DTSTART;TZID=UTC:20260117T100000
DTEND;TZID=UTC:20260117T110000
DTSTAMP:20260422T032057
CREATED:20250622T114601Z
LAST-MODIFIED:20250622T114613Z
UID:3632-1768644000-1768647600@southcarolinabluebirds.org
SUMMARY:Wild Birds Unlimited - Surfside Beach\, SC
DESCRIPTION:
URL:https://southcarolinabluebirds.org/event/wild-birds-unlimited-surfside-beach-sc-2/
CATEGORIES:Presentations
END:VEVENT
BEGIN:VEVENT
DTSTART;TZID=UTC:20260117T104000
DTEND;TZID=UTC:20260117T114000
DTSTAMP:20260422T032057
CREATED:20250820T170745Z
LAST-MODIFIED:20250821T142044Z
UID:3776-1768646400-1768650000@southcarolinabluebirds.org
SUMMARY:Etta Greer Garden Club | Pelzer\, SC
DESCRIPTION:
URL:https://southcarolinabluebirds.org/event/etta-greer-garden-club-pelzer-sc/
CATEGORIES:Presentations
END:VEVENT
END:VCALENDAR