BEGIN:VCALENDAR
VERSION:2.0
PRODID:-//South Carolina Bluebird Society - ECPv6.15.20//NONSGML v1.0//EN
CALSCALE:GREGORIAN
METHOD:PUBLISH
X-WR-CALNAME:South Carolina Bluebird Society
X-ORIGINAL-URL:https://southcarolinabluebirds.org
X-WR-CALDESC:Events for South Carolina Bluebird Society
REFRESH-INTERVAL;VALUE=DURATION:PT1H
X-Robots-Tag:noindex
X-PUBLISHED-TTL:PT1H
BEGIN:VTIMEZONE
TZID:UTC
BEGIN:STANDARD
TZOFFSETFROM:+0000
TZOFFSETTO:+0000
TZNAME:UTC
DTSTART:20250101T000000
END:STANDARD
END:VTIMEZONE
BEGIN:VEVENT
DTSTART;TZID=UTC:20260118T100000
DTEND;TZID=UTC:20260118T110000
DTSTAMP:20260422T032200
CREATED:20250622T114733Z
LAST-MODIFIED:20250622T114733Z
UID:3636-1768730400-1768734000@southcarolinabluebirds.org
SUMMARY:Wild Birds Unlimited - Mt. Pleasant\, SC
DESCRIPTION:
URL:https://southcarolinabluebirds.org/event/wild-birds-unlimited-mt-pleasant-sc-2/
CATEGORIES:Presentations
END:VEVENT
END:VCALENDAR