BEGIN:VCALENDAR
VERSION:2.0
PRODID:-//South Carolina Bluebird Society - ECPv6.15.20//NONSGML v1.0//EN
CALSCALE:GREGORIAN
METHOD:PUBLISH
X-WR-CALNAME:South Carolina Bluebird Society
X-ORIGINAL-URL:https://southcarolinabluebirds.org
X-WR-CALDESC:Events for South Carolina Bluebird Society
REFRESH-INTERVAL;VALUE=DURATION:PT1H
X-Robots-Tag:noindex
X-PUBLISHED-TTL:PT1H
BEGIN:VTIMEZONE
TZID:UTC
BEGIN:STANDARD
TZOFFSETFROM:+0000
TZOFFSETTO:+0000
TZNAME:UTC
DTSTART:20250101T000000
END:STANDARD
END:VTIMEZONE
BEGIN:VEVENT
DTSTART;TZID=UTC:20260121T100000
DTEND;TZID=UTC:20260121T110000
DTSTAMP:20260422T032057
CREATED:20250728T130735Z
LAST-MODIFIED:20250728T130735Z
UID:3663-1768989600-1768993200@southcarolinabluebirds.org
SUMMARY:Manning Garden Club  | Manning\, SC
DESCRIPTION:
URL:https://southcarolinabluebirds.org/event/manning-garden-club-manning-sc/
CATEGORIES:Presentations
END:VEVENT
BEGIN:VEVENT
DTSTART;TZID=UTC:20260121T123000
DTEND;TZID=UTC:20260121T133000
DTSTAMP:20260422T032057
CREATED:20250407T170311Z
LAST-MODIFIED:20250407T170311Z
UID:3281-1768998600-1769002200@southcarolinabluebirds.org
SUMMARY:St William Garden Club | Columbia\, SC
DESCRIPTION:
URL:https://southcarolinabluebirds.org/event/st-william-garden-club-columbia-sc/
CATEGORIES:Presentations
END:VEVENT
END:VCALENDAR