BEGIN:VCALENDAR
VERSION:2.0
PRODID:-//South Carolina Bluebird Society - ECPv6.15.20//NONSGML v1.0//EN
CALSCALE:GREGORIAN
METHOD:PUBLISH
X-ORIGINAL-URL:https://southcarolinabluebirds.org
X-WR-CALDESC:Events for South Carolina Bluebird Society
REFRESH-INTERVAL;VALUE=DURATION:PT1H
X-Robots-Tag:noindex
X-PUBLISHED-TTL:PT1H
BEGIN:VTIMEZONE
TZID:UTC
BEGIN:STANDARD
TZOFFSETFROM:+0000
TZOFFSETTO:+0000
TZNAME:UTC
DTSTART:20250101T000000
END:STANDARD
END:VTIMEZONE
BEGIN:VEVENT
DTSTART;TZID=UTC:20260307T100000
DTEND;TZID=UTC:20260307T110000
DTSTAMP:20260422T002452
CREATED:20250707T211921Z
LAST-MODIFIED:20250707T211921Z
UID:3645-1772877600-1772881200@southcarolinabluebirds.org
SUMMARY:WBU Augusta | Augusta\, GA
DESCRIPTION:
URL:https://southcarolinabluebirds.org/event/wbu-augusta-augusta-ga-5/
CATEGORIES:Presentations
END:VEVENT
END:VCALENDAR