BEGIN:VCALENDAR
VERSION:2.0
PRODID:-//South Carolina Bluebird Society - ECPv6.15.20//NONSGML v1.0//EN
CALSCALE:GREGORIAN
METHOD:PUBLISH
X-ORIGINAL-URL:https://southcarolinabluebirds.org
X-WR-CALDESC:Events for South Carolina Bluebird Society
REFRESH-INTERVAL;VALUE=DURATION:PT1H
X-Robots-Tag:noindex
X-PUBLISHED-TTL:PT1H
BEGIN:VTIMEZONE
TZID:UTC
BEGIN:STANDARD
TZOFFSETFROM:+0000
TZOFFSETTO:+0000
TZNAME:UTC
DTSTART:20250101T000000
END:STANDARD
END:VTIMEZONE
BEGIN:VEVENT
DTSTART;VALUE=DATE:20260312
DTEND;VALUE=DATE:20260313
DTSTAMP:20260422T002451
CREATED:20250606T155122Z
LAST-MODIFIED:20250606T155122Z
UID:3621-1773273600-1773359999@southcarolinabluebirds.org
SUMMARY:Chrysanthemum Garden Club | Abbeville\, SC
DESCRIPTION:
URL:https://southcarolinabluebirds.org/event/chrysanthemum-garden-club-abbeville-sc/
CATEGORIES:Presentations
END:VEVENT
BEGIN:VEVENT
DTSTART;TZID=UTC:20260312T140000
DTEND;TZID=UTC:20260312T150000
DTSTAMP:20260422T002451
CREATED:20251015T175917Z
LAST-MODIFIED:20251015T175917Z
UID:4091-1773324000-1773327600@southcarolinabluebirds.org
SUMMARY:Martha Franks Retirement Community | Laurens\, SC
DESCRIPTION:
URL:https://southcarolinabluebirds.org/event/martha-franks-retirement-community-laurens-sc/
CATEGORIES:Presentations
END:VEVENT
BEGIN:VEVENT
DTSTART;TZID=UTC:20260312T143000
DTEND;TZID=UTC:20260312T150000
DTSTAMP:20260422T002451
CREATED:20251006T113111Z
LAST-MODIFIED:20251006T113111Z
UID:4084-1773325800-1773327600@southcarolinabluebirds.org
SUMMARY:Ann Pamela Cunningham Garden Club | Laurens\, SC
DESCRIPTION:
URL:https://southcarolinabluebirds.org/event/ann-pamela-cunningham-garden-club-laurens-sc/
CATEGORIES:Presentations
END:VEVENT
END:VCALENDAR