BEGIN:VCALENDAR
VERSION:2.0
PRODID:-//South Carolina Bluebird Society - ECPv6.15.20//NONSGML v1.0//EN
CALSCALE:GREGORIAN
METHOD:PUBLISH
X-ORIGINAL-URL:https://southcarolinabluebirds.org
X-WR-CALDESC:Events for South Carolina Bluebird Society
REFRESH-INTERVAL;VALUE=DURATION:PT1H
X-Robots-Tag:noindex
X-PUBLISHED-TTL:PT1H
BEGIN:VTIMEZONE
TZID:UTC
BEGIN:STANDARD
TZOFFSETFROM:+0000
TZOFFSETTO:+0000
TZNAME:UTC
DTSTART:20250101T000000
END:STANDARD
END:VTIMEZONE
BEGIN:VEVENT
DTSTART;TZID=UTC:20260321T103000
DTEND;TZID=UTC:20260321T113000
DTSTAMP:20260422T002454
CREATED:20250820T170716Z
LAST-MODIFIED:20250820T170716Z
UID:3774-1774089000-1774092600@southcarolinabluebirds.org
SUMMARY:Wild Birds Unlimited | Columbia
DESCRIPTION:
URL:https://southcarolinabluebirds.org/event/wild-birds-unlimited-columbia/
CATEGORIES:Presentations
END:VEVENT
END:VCALENDAR