BEGIN:VCALENDAR
VERSION:2.0
PRODID:-//South Carolina Bluebird Society - ECPv6.15.20//NONSGML v1.0//EN
CALSCALE:GREGORIAN
METHOD:PUBLISH
X-WR-CALNAME:South Carolina Bluebird Society
X-ORIGINAL-URL:https://southcarolinabluebirds.org
X-WR-CALDESC:Events for South Carolina Bluebird Society
REFRESH-INTERVAL;VALUE=DURATION:PT1H
X-Robots-Tag:noindex
X-PUBLISHED-TTL:PT1H
BEGIN:VTIMEZONE
TZID:UTC
BEGIN:STANDARD
TZOFFSETFROM:+0000
TZOFFSETTO:+0000
TZNAME:UTC
DTSTART:20250101T000000
END:STANDARD
END:VTIMEZONE
BEGIN:VEVENT
DTSTART;TZID=UTC:20260401T105000
DTEND;TZID=UTC:20260401T115000
DTSTAMP:20260421T230121
CREATED:20250622T114842Z
LAST-MODIFIED:20250622T114842Z
UID:3638-1775040600-1775044200@southcarolinabluebirds.org
SUMMARY:Spring Valley Garden Club | Columbia\, SC
DESCRIPTION:
URL:https://southcarolinabluebirds.org/event/spring-valley-garden-club-columbia-sc/
CATEGORIES:Presentations
END:VEVENT
END:VCALENDAR