BEGIN:VCALENDAR
VERSION:2.0
PRODID:-//South Carolina Bluebird Society - ECPv6.15.20//NONSGML v1.0//EN
CALSCALE:GREGORIAN
METHOD:PUBLISH
X-WR-CALNAME:South Carolina Bluebird Society
X-ORIGINAL-URL:https://southcarolinabluebirds.org
X-WR-CALDESC:Events for South Carolina Bluebird Society
REFRESH-INTERVAL;VALUE=DURATION:PT1H
X-Robots-Tag:noindex
X-PUBLISHED-TTL:PT1H
BEGIN:VTIMEZONE
TZID:UTC
BEGIN:STANDARD
TZOFFSETFROM:+0000
TZOFFSETTO:+0000
TZNAME:UTC
DTSTART:20250101T000000
END:STANDARD
END:VTIMEZONE
BEGIN:VEVENT
DTSTART;TZID=UTC:20260402T130000
DTEND;TZID=UTC:20260402T140000
DTSTAMP:20260422T002306
CREATED:20250709T155117Z
LAST-MODIFIED:20251006T113347Z
UID:3649-1775134800-1775138400@southcarolinabluebirds.org
SUMMARY:Bay Blossoms Garden Club  |   Columbia\, SC
DESCRIPTION:
URL:https://southcarolinabluebirds.org/event/bay-blossoms-garden-club-columbia-sc/
CATEGORIES:Presentations
END:VEVENT
END:VCALENDAR