BEGIN:VCALENDAR
VERSION:2.0
PRODID:-//South Carolina Bluebird Society - ECPv6.15.20//NONSGML v1.0//EN
CALSCALE:GREGORIAN
METHOD:PUBLISH
X-WR-CALNAME:South Carolina Bluebird Society
X-ORIGINAL-URL:https://southcarolinabluebirds.org
X-WR-CALDESC:Events for South Carolina Bluebird Society
REFRESH-INTERVAL;VALUE=DURATION:PT1H
X-Robots-Tag:noindex
X-PUBLISHED-TTL:PT1H
BEGIN:VTIMEZONE
TZID:UTC
BEGIN:STANDARD
TZOFFSETFROM:+0000
TZOFFSETTO:+0000
TZNAME:UTC
DTSTART:20250101T000000
END:STANDARD
END:VTIMEZONE
BEGIN:VEVENT
DTSTART;TZID=UTC:20260409T110000
DTEND;TZID=UTC:20260409T120000
DTSTAMP:20260421T230224
CREATED:20260213T203052Z
LAST-MODIFIED:20260213T203052Z
UID:4201-1775732400-1775736000@southcarolinabluebirds.org
SUMMARY:Aiken Senior Life Services | Aiken\, SC
DESCRIPTION:
URL:https://southcarolinabluebirds.org/event/aiken-senior-life-services-aiken-sc-2/
CATEGORIES:Presentations
END:VEVENT
END:VCALENDAR