BEGIN:VCALENDAR
VERSION:2.0
PRODID:-//South Carolina Bluebird Society - ECPv6.15.20//NONSGML v1.0//EN
CALSCALE:GREGORIAN
METHOD:PUBLISH
X-WR-CALNAME:South Carolina Bluebird Society
X-ORIGINAL-URL:https://southcarolinabluebirds.org
X-WR-CALDESC:Events for South Carolina Bluebird Society
REFRESH-INTERVAL;VALUE=DURATION:PT1H
X-Robots-Tag:noindex
X-PUBLISHED-TTL:PT1H
BEGIN:VTIMEZONE
TZID:UTC
BEGIN:STANDARD
TZOFFSETFROM:+0000
TZOFFSETTO:+0000
TZNAME:UTC
DTSTART:20250101T000000
END:STANDARD
END:VTIMEZONE
BEGIN:VEVENT
DTSTART;TZID=UTC:20260414T100000
DTEND;TZID=UTC:20260414T110000
DTSTAMP:20260421T230120
CREATED:20250711T204214Z
LAST-MODIFIED:20250711T204214Z
UID:3651-1776160800-1776164400@southcarolinabluebirds.org
SUMMARY:Garden Club of Aiken | Aiken\, SC
DESCRIPTION:
URL:https://southcarolinabluebirds.org/event/garden-club-of-aiken-aiken-sc/
END:VEVENT
END:VCALENDAR