BEGIN:VCALENDAR
VERSION:2.0
PRODID:-//South Carolina Bluebird Society - ECPv6.15.20//NONSGML v1.0//EN
CALSCALE:GREGORIAN
METHOD:PUBLISH
X-WR-CALNAME:South Carolina Bluebird Society
X-ORIGINAL-URL:https://southcarolinabluebirds.org
X-WR-CALDESC:Events for South Carolina Bluebird Society
REFRESH-INTERVAL;VALUE=DURATION:PT1H
X-Robots-Tag:noindex
X-PUBLISHED-TTL:PT1H
BEGIN:VTIMEZONE
TZID:UTC
BEGIN:STANDARD
TZOFFSETFROM:+0000
TZOFFSETTO:+0000
TZNAME:UTC
DTSTART:20240101T000000
END:STANDARD
END:VTIMEZONE
BEGIN:VEVENT
DTSTART;TZID=UTC:20251012T120000
DTEND;TZID=UTC:20251012T140000
DTSTAMP:20260424T214641
CREATED:20250728T130653Z
LAST-MODIFIED:20250728T130653Z
UID:3661-1760270400-1760277600@southcarolinabluebirds.org
SUMMARY:Nature Rocks at Hopeland | Aiken\, SC
DESCRIPTION:Hopeland Gardens\, Aiken\, SC
URL:https://southcarolinabluebirds.org/event/nature-rocks-at-hopeland-aiken-sc/
CATEGORIES:Presentations
END:VEVENT
END:VCALENDAR