BEGIN:VCALENDAR
VERSION:2.0
PRODID:-//South Carolina Bluebird Society - ECPv6.15.20//NONSGML v1.0//EN
CALSCALE:GREGORIAN
METHOD:PUBLISH
X-ORIGINAL-URL:https://southcarolinabluebirds.org
X-WR-CALDESC:Events for South Carolina Bluebird Society
REFRESH-INTERVAL;VALUE=DURATION:PT1H
X-Robots-Tag:noindex
X-PUBLISHED-TTL:PT1H
BEGIN:VTIMEZONE
TZID:UTC
BEGIN:STANDARD
TZOFFSETFROM:+0000
TZOFFSETTO:+0000
TZNAME:UTC
DTSTART:20250101T000000
END:STANDARD
END:VTIMEZONE
BEGIN:VEVENT
DTSTART;TZID=UTC:20260418T100000
DTEND;TZID=UTC:20260418T110000
DTSTAMP:20260422T021148
CREATED:20251202T084537Z
LAST-MODIFIED:20251202T084537Z
UID:4131-1776506400-1776510000@southcarolinabluebirds.org
SUMMARY:Friends of Jocassee | Salem\, SC
DESCRIPTION:
URL:https://southcarolinabluebirds.org/event/friends-of-jocassee-salem-sc/
CATEGORIES:Presentations
END:VEVENT
BEGIN:VEVENT
DTSTART;TZID=UTC:20260421T180000
DTEND;TZID=UTC:20260421T190000
DTSTAMP:20260422T021148
CREATED:20251028T194659Z
LAST-MODIFIED:20251028T194659Z
UID:4098-1776794400-1776798000@southcarolinabluebirds.org
SUMMARY:Green Thumb Garden Club | Millen GA
DESCRIPTION:
URL:https://southcarolinabluebirds.org/event/green-thumb-garden-club-millen-ga/
CATEGORIES:Presentations
END:VEVENT
BEGIN:VEVENT
DTSTART;TZID=UTC:20260425T100000
DTEND;TZID=UTC:20260425T110000
DTSTAMP:20260422T021148
CREATED:20251218T184825Z
LAST-MODIFIED:20251218T184825Z
UID:4143-1777111200-1777114800@southcarolinabluebirds.org
SUMMARY:Wild Birds Unlimited
DESCRIPTION:
URL:https://southcarolinabluebirds.org/event/wild-birds-unlimited/
CATEGORIES:Presentations
END:VEVENT
BEGIN:VEVENT
DTSTART;TZID=UTC:20260502T090000
DTEND;TZID=UTC:20260502T110000
DTSTAMP:20260422T021148
CREATED:20260227T144841Z
LAST-MODIFIED:20260227T144841Z
UID:4216-1777712400-1777719600@southcarolinabluebirds.org
SUMMARY:Bluebird Monitoring Field Trip | Hitchcock Woods
DESCRIPTION:
URL:https://southcarolinabluebirds.org/event/bluebird-monitoring-field-trip-hitchcock-woods/
CATEGORIES:Presentations
END:VEVENT
BEGIN:VEVENT
DTSTART;TZID=UTC:20260509T105000
DTEND;TZID=UTC:20260509T115000
DTSTAMP:20260422T021148
CREATED:20260213T203205Z
LAST-MODIFIED:20260213T203205Z
UID:4205-1778323800-1778327400@southcarolinabluebirds.org
SUMMARY:River Island River House  | Evans\, GA
DESCRIPTION:
URL:https://southcarolinabluebirds.org/event/river-island-river-house-evans-ga/
CATEGORIES:Presentations
END:VEVENT
BEGIN:VEVENT
DTSTART;TZID=UTC:20260514T140000
DTEND;TZID=UTC:20260514T150000
DTSTAMP:20260422T021148
CREATED:20260128T190748Z
LAST-MODIFIED:20260128T190748Z
UID:4183-1778767200-1778770800@southcarolinabluebirds.org
SUMMARY:Holmes Educational Forest | Hendersonville\, NC
DESCRIPTION:
URL:https://southcarolinabluebirds.org/event/holmes-educational-forest-hendersonville-nc/
CATEGORIES:Presentations
END:VEVENT
BEGIN:VEVENT
DTSTART;TZID=UTC:20260515T100000
DTEND;TZID=UTC:20260515T150000
DTSTAMP:20260422T021148
CREATED:20251104T172945Z
LAST-MODIFIED:20251104T172945Z
UID:4109-1778839200-1778857200@southcarolinabluebirds.org
SUMMARY:Aiken Garden | Aiken SC
DESCRIPTION:
URL:https://southcarolinabluebirds.org/event/aiken-garden-aiken-sc/
CATEGORIES:Presentations
END:VEVENT
BEGIN:VEVENT
DTSTART;TZID=UTC:20260516T100000
DTEND;TZID=UTC:20260516T150000
DTSTAMP:20260422T021148
CREATED:20251104T173024Z
LAST-MODIFIED:20251104T173024Z
UID:4111-1778925600-1778943600@southcarolinabluebirds.org
SUMMARY:Aiken Garden Show|  Aiken SC
DESCRIPTION:
URL:https://southcarolinabluebirds.org/event/aiken-garden-show-aiken-sc/
CATEGORIES:Presentations
END:VEVENT
BEGIN:VEVENT
DTSTART;TZID=UTC:20260521T183000
DTEND;TZID=UTC:20260521T193000
DTSTAMP:20260422T021148
CREATED:20251104T173203Z
LAST-MODIFIED:20251104T173203Z
UID:4117-1779388200-1779391800@southcarolinabluebirds.org
SUMMARY:Artists Collective Spartanburg | Spartanburg\, SC
DESCRIPTION:
URL:https://southcarolinabluebirds.org/event/artists-collective-spartanburg-spartanburg-sc/
CATEGORIES:Presentations
END:VEVENT
BEGIN:VEVENT
DTSTART;TZID=UTC:20260530T100000
DTEND;TZID=UTC:20260530T110000
DTSTAMP:20260422T021148
CREATED:20251104T173103Z
LAST-MODIFIED:20251104T173103Z
UID:4113-1780135200-1780138800@southcarolinabluebirds.org
SUMMARY:SLV Bluebird Conservation Club | McCormick SC
DESCRIPTION:
URL:https://southcarolinabluebirds.org/event/slv-bluebird-conservation-club-mccormick-sc/
CATEGORIES:Presentations
END:VEVENT
BEGIN:VEVENT
DTSTART;TZID=UTC:20261111T183000
DTEND;TZID=UTC:20261111T193000
DTSTAMP:20260422T021148
CREATED:20251113T171547Z
LAST-MODIFIED:20251113T171547Z
UID:4121-1794421800-1794425400@southcarolinabluebirds.org
SUMMARY:Four Seasons Garden Club | Greenwood\, SC
DESCRIPTION:
URL:https://southcarolinabluebirds.org/event/four-seasons-garden-club-greenwood-sc/
CATEGORIES:Presentations
END:VEVENT
END:VCALENDAR