BEGIN:VCALENDAR
VERSION:2.0
PRODID:-//South Carolina Bluebird Society - ECPv6.15.20//NONSGML v1.0//EN
CALSCALE:GREGORIAN
METHOD:PUBLISH
X-WR-CALNAME:South Carolina Bluebird Society
X-ORIGINAL-URL:https://southcarolinabluebirds.org
X-WR-CALDESC:Events for South Carolina Bluebird Society
REFRESH-INTERVAL;VALUE=DURATION:PT1H
X-Robots-Tag:noindex
X-PUBLISHED-TTL:PT1H
BEGIN:VTIMEZONE
TZID:UTC
BEGIN:STANDARD
TZOFFSETFROM:+0000
TZOFFSETTO:+0000
TZNAME:UTC
DTSTART:20220101T000000
END:STANDARD
END:VTIMEZONE
BEGIN:VEVENT
DTSTART;VALUE=DATE:20230217
DTEND;VALUE=DATE:20230218
DTSTAMP:20260425T110549
CREATED:20230215T125111Z
LAST-MODIFIED:20230220T124954Z
UID:2122-1676592000-1676678399@southcarolinabluebirds.org
SUMMARY:Savannah Lakes Village - McCormick\, SC
DESCRIPTION:
URL:https://southcarolinabluebirds.org/event/savannah-lakes-village-mccormick-sc/
CATEGORIES:Presentations
END:VEVENT
BEGIN:VEVENT
DTSTART;VALUE=DATE:20230213
DTEND;VALUE=DATE:20230214
DTSTAMP:20260425T110549
CREATED:20230102T140818Z
LAST-MODIFIED:20230220T124954Z
UID:2043-1676246400-1676332799@southcarolinabluebirds.org
SUMMARY:Camden Garden Club
DESCRIPTION:Camden\, SC
URL:https://southcarolinabluebirds.org/event/camden-garden-club/
CATEGORIES:Presentations
END:VEVENT
BEGIN:VEVENT
DTSTART;VALUE=DATE:20230211
DTEND;VALUE=DATE:20230212
DTSTAMP:20260425T110549
CREATED:20230115T133255Z
LAST-MODIFIED:20230220T124954Z
UID:2071-1676073600-1676159999@southcarolinabluebirds.org
SUMMARY:Presentation at Cold Creek Nurseries
DESCRIPTION:
URL:https://southcarolinabluebirds.org/event/presentation-at-cold-creek-nurseries/
CATEGORIES:Presentations
END:VEVENT
BEGIN:VEVENT
DTSTART;VALUE=DATE:20230206
DTEND;VALUE=DATE:20230207
DTSTAMP:20260425T110549
CREATED:20230102T140746Z
LAST-MODIFIED:20230220T124955Z
UID:2041-1675641600-1675727999@southcarolinabluebirds.org
SUMMARY:AHS FFA Boosters
DESCRIPTION:Aiken\, SC
URL:https://southcarolinabluebirds.org/event/ahs-ffa-boosters/
CATEGORIES:Presentations
END:VEVENT
BEGIN:VEVENT
DTSTART;VALUE=DATE:20230201
DTEND;VALUE=DATE:20230202
DTSTAMP:20260425T110549
CREATED:20230102T140651Z
LAST-MODIFIED:20230220T124955Z
UID:2037-1675209600-1675295999@southcarolinabluebirds.org
SUMMARY:Sandhill Children's GDN
DESCRIPTION:Columbia\, SC
URL:https://southcarolinabluebirds.org/event/sandhill-childrens-gdn/
CATEGORIES:Presentations
END:VEVENT
BEGIN:VEVENT
DTSTART;VALUE=DATE:20230122
DTEND;VALUE=DATE:20230123
DTSTAMP:20260425T110549
CREATED:20230102T141244Z
LAST-MODIFIED:20230220T124955Z
UID:2059-1674345600-1674431999@southcarolinabluebirds.org
SUMMARY:Myrtle Trace HOA BB presentation
DESCRIPTION:Conway\, SC
URL:https://southcarolinabluebirds.org/event/myrtle-trace-hoa-bb-presentation/
CATEGORIES:Presentations
END:VEVENT
BEGIN:VEVENT
DTSTART;VALUE=DATE:20230121
DTEND;VALUE=DATE:20230122
DTSTAMP:20260425T110549
CREATED:20230102T140621Z
LAST-MODIFIED:20230220T124955Z
UID:2035-1674259200-1674345599@southcarolinabluebirds.org
SUMMARY:Wild Birds Unlimited
DESCRIPTION:Surfside Beach
URL:https://southcarolinabluebirds.org/event/wbu/
CATEGORIES:Presentations
END:VEVENT
END:VCALENDAR