BEGIN:VCALENDAR
VERSION:2.0
PRODID:-//South Carolina Bluebird Society - ECPv6.15.20//NONSGML v1.0//EN
CALSCALE:GREGORIAN
METHOD:PUBLISH
X-WR-CALNAME:South Carolina Bluebird Society
X-ORIGINAL-URL:https://southcarolinabluebirds.org
X-WR-CALDESC:Events for South Carolina Bluebird Society
REFRESH-INTERVAL;VALUE=DURATION:PT1H
X-Robots-Tag:noindex
X-PUBLISHED-TTL:PT1H
BEGIN:VTIMEZONE
TZID:UTC
BEGIN:STANDARD
TZOFFSETFROM:+0000
TZOFFSETTO:+0000
TZNAME:UTC
DTSTART:20230101T000000
END:STANDARD
END:VTIMEZONE
BEGIN:VEVENT
DTSTART;TZID=UTC:20240608T100000
DTEND;TZID=UTC:20240608T140000
DTSTAMP:20260425T130037
CREATED:20240512T175150Z
LAST-MODIFIED:20240512T175150Z
UID:3029-1717840800-1717855200@southcarolinabluebirds.org
SUMMARY:WOW Garden Tour | Aiken\, SC
DESCRIPTION:The Village Cafe\nAiken\, SC
URL:https://southcarolinabluebirds.org/event/wow-garden-tour-aiken-sc/
CATEGORIES:Presentations
END:VEVENT
BEGIN:VEVENT
DTSTART;TZID=UTC:20240515T140000
DTEND;TZID=UTC:20240515T160000
DTSTAMP:20260425T130037
CREATED:20240212T121902Z
LAST-MODIFIED:20240212T122127Z
UID:2938-1715781600-1715788800@southcarolinabluebirds.org
SUMMARY:Holmes State Forrest | Hendersonville\, NC
DESCRIPTION:
URL:https://southcarolinabluebirds.org/event/holmes-state-forrest-hendersonville-nc/
CATEGORIES:Presentations
END:VEVENT
BEGIN:VEVENT
DTSTART;VALUE=DATE:20240511
DTEND;VALUE=DATE:20240512
DTSTAMP:20260425T130037
CREATED:20231211T194527Z
LAST-MODIFIED:20231211T194527Z
UID:2890-1715385600-1715471999@southcarolinabluebirds.org
SUMMARY:Build A Box at Table Rock State Park | Pickens\, SC
DESCRIPTION:
URL:https://southcarolinabluebirds.org/event/build-a-box-at-table-rock-state-park-pickens-sc/
CATEGORIES:Presentations
END:VEVENT
BEGIN:VEVENT
DTSTART;TZID=UTC:20240504T100000
DTEND;TZID=UTC:20240504T100000
DTSTAMP:20260425T130037
CREATED:20240409T170112Z
LAST-MODIFIED:20240410T132629Z
UID:3024-1714816800-1714816800@southcarolinabluebirds.org
SUMMARY:Lunch and Learn at Anderson Farms | Aiken\, SC
DESCRIPTION:
URL:https://southcarolinabluebirds.org/event/lunch-and-learn-at-anderson-farms-aiken-sc/
CATEGORIES:Presentations
END:VEVENT
BEGIN:VEVENT
DTSTART;VALUE=DATE:20240504
DTEND;VALUE=DATE:20240505
DTSTAMP:20260425T130037
CREATED:20240121T180740Z
LAST-MODIFIED:20240121T180740Z
UID:2926-1714780800-1714867199@southcarolinabluebirds.org
SUMMARY:Table Rock Tea Company | Pickens\, SC
DESCRIPTION:
URL:https://southcarolinabluebirds.org/event/table-rock-tea-company-pickens-sc/
CATEGORIES:Presentations
END:VEVENT
BEGIN:VEVENT
DTSTART;TZID=UTC:20240427T090000
DTEND;TZID=UTC:20240427T120000
DTSTAMP:20260425T130037
CREATED:20240202T171028Z
LAST-MODIFIED:20240202T171028Z
UID:2932-1714208400-1714219200@southcarolinabluebirds.org
SUMMARY:Aiken Master Gardener Plant Sale | Millbrook Baptist Church | Aiken\, SC
DESCRIPTION:
URL:https://southcarolinabluebirds.org/event/aiken-master-gardener-plant-sale-millbrook-baptist-church-aiken-sc/
CATEGORIES:Presentations
END:VEVENT
BEGIN:VEVENT
DTSTART;VALUE=DATE:20240420
DTEND;VALUE=DATE:20240421
DTSTAMP:20260425T130037
CREATED:20240219T204912Z
LAST-MODIFIED:20240219T204912Z
UID:2969-1713571200-1713657599@southcarolinabluebirds.org
SUMMARY:Earth Day
DESCRIPTION:
URL:https://southcarolinabluebirds.org/event/earth-day/
END:VEVENT
BEGIN:VEVENT
DTSTART;VALUE=DATE:20240413
DTEND;VALUE=DATE:20240414
DTSTAMP:20260425T130037
CREATED:20231211T194500Z
LAST-MODIFIED:20240220T172639Z
UID:2888-1712966400-1713052799@southcarolinabluebirds.org
SUMMARY:Table Rock State Park | Pickens\, SC
DESCRIPTION:
URL:https://southcarolinabluebirds.org/event/table-rock-state-park-pickens-sc/
END:VEVENT
BEGIN:VEVENT
DTSTART;TZID=UTC:20240412T180000
DTEND;TZID=UTC:20240412T180000
DTSTAMP:20260425T130037
CREATED:20240321T190631Z
LAST-MODIFIED:20240327T201535Z
UID:3004-1712944800-1712944800@southcarolinabluebirds.org
SUMMARY:Cliff Ridge Colony HOA | Cleveland\, SC
DESCRIPTION:
URL:https://southcarolinabluebirds.org/event/cliff-ridge-colony-hoa-cleveland-sc/
CATEGORIES:Presentations
END:VEVENT
BEGIN:VEVENT
DTSTART;VALUE=DATE:20240409
DTEND;VALUE=DATE:20240410
DTSTAMP:20260425T130037
CREATED:20230612T204125Z
LAST-MODIFIED:20230612T204125Z
UID:2720-1712620800-1712707199@southcarolinabluebirds.org
SUMMARY:Aiken Newcomers Club | Aiken\, SC
DESCRIPTION:
URL:https://southcarolinabluebirds.org/event/aiken-newcomers-club-aiken-sc/
CATEGORIES:Presentations
END:VEVENT
BEGIN:VEVENT
DTSTART;TZID=UTC:20240321T090000
DTEND;TZID=UTC:20240321T120000
DTSTAMP:20260425T130037
CREATED:20240305T155207Z
LAST-MODIFIED:20240305T155207Z
UID:2989-1711011600-1711022400@southcarolinabluebirds.org
SUMMARY:Garden Club of South Carolina\, inc. | West Low Country District Williston\, SC
DESCRIPTION:
URL:https://southcarolinabluebirds.org/event/garden-club-of-south-carolina-inc-west-low-country-district-williston-sc/
CATEGORIES:Presentations
END:VEVENT
BEGIN:VEVENT
DTSTART;VALUE=DATE:20240319
DTEND;VALUE=DATE:20240320
DTSTAMP:20260425T130037
CREATED:20230424T205012Z
LAST-MODIFIED:20230511T114647Z
UID:2655-1710806400-1710892799@southcarolinabluebirds.org
SUMMARY:Anemone Garden Club - Winnsboro\, SC
DESCRIPTION:
URL:https://southcarolinabluebirds.org/event/anemone-garden-club-winnsboro-sc/
CATEGORIES:Presentations
END:VEVENT
BEGIN:VEVENT
DTSTART;VALUE=DATE:20240315
DTEND;VALUE=DATE:20240316
DTSTAMP:20260425T130037
CREATED:20230828T163430Z
LAST-MODIFIED:20230828T163430Z
UID:2773-1710460800-1710547199@southcarolinabluebirds.org
SUMMARY:Houndslake Garden Club | Aiken\, SC
DESCRIPTION:
URL:https://southcarolinabluebirds.org/event/houndslake-garden-club-aiken-sc/
CATEGORIES:Presentations
END:VEVENT
BEGIN:VEVENT
DTSTART;TZID=UTC:20240309T110000
DTEND;TZID=UTC:20240309T130000
DTSTAMP:20260425T130037
CREATED:20240223T200134Z
LAST-MODIFIED:20240223T200314Z
UID:2978-1709982000-1709989200@southcarolinabluebirds.org
SUMMARY:Wild Birds Unlimited | Augusta\, GA
DESCRIPTION:
URL:https://southcarolinabluebirds.org/event/wild-birds-unlimited-augusta-ga-5/
CATEGORIES:Presentations
END:VEVENT
BEGIN:VEVENT
DTSTART;TZID=UTC:20240309T090000
DTEND;TZID=UTC:20240309T110000
DTSTAMP:20260425T130037
CREATED:20240223T200100Z
LAST-MODIFIED:20240223T200100Z
UID:2976-1709974800-1709982000@southcarolinabluebirds.org
SUMMARY:Wild Birds Unlimited | Augusta\, GA
DESCRIPTION:
URL:https://southcarolinabluebirds.org/event/wild-birds-unlimited-augusta-ga-4/
CATEGORIES:Presentations
END:VEVENT
BEGIN:VEVENT
DTSTART;VALUE=DATE:20240307
DTEND;VALUE=DATE:20240308
DTSTAMP:20260425T130037
CREATED:20230705T190358Z
LAST-MODIFIED:20230705T190358Z
UID:2734-1709769600-1709855999@southcarolinabluebirds.org
SUMMARY:The Sandpiper Garden Club - Columbia\, SC
DESCRIPTION:
URL:https://southcarolinabluebirds.org/event/the-sandpiper-garden-club-columbia-sc/
CATEGORIES:Presentations
END:VEVENT
BEGIN:VEVENT
DTSTART;TZID=UTC:20240306T120000
DTEND;TZID=UTC:20240306T140000
DTSTAMP:20260425T130037
CREATED:20240116T125602Z
LAST-MODIFIED:20240219T204850Z
UID:2914-1709726400-1709733600@southcarolinabluebirds.org
SUMMARY:SI Group | Organgeburg\, SC
DESCRIPTION:
URL:https://southcarolinabluebirds.org/event/si-group-organgeburg-sc/
CATEGORIES:Presentations
END:VEVENT
BEGIN:VEVENT
DTSTART;TZID=UTC:20240302T130000
DTEND;TZID=UTC:20240302T150000
DTSTAMP:20260425T130037
CREATED:20231107T113010Z
LAST-MODIFIED:20240213T153936Z
UID:2792-1709384400-1709391600@southcarolinabluebirds.org
SUMMARY:Reed Creek Park | Martinez\, Ga.
DESCRIPTION:
URL:https://southcarolinabluebirds.org/event/reed-creek-park-martinez-ga/
CATEGORIES:Presentations
END:VEVENT
BEGIN:VEVENT
DTSTART;VALUE=DATE:20240302
DTEND;VALUE=DATE:20240303
DTSTAMP:20260425T130037
CREATED:20240129T172719Z
LAST-MODIFIED:20240129T172719Z
UID:2929-1709337600-1709423999@southcarolinabluebirds.org
SUMMARY:Wild Birds Unlimited | Asheville\, NC
DESCRIPTION:
URL:https://southcarolinabluebirds.org/event/wild-birds-unlimited-asheville-nc/
CATEGORIES:Presentations
END:VEVENT
BEGIN:VEVENT
DTSTART;TZID=UTC:20240224T110000
DTEND;TZID=UTC:20240224T130000
DTSTAMP:20260425T130037
CREATED:20240223T200022Z
LAST-MODIFIED:20240223T200022Z
UID:2974-1708772400-1708779600@southcarolinabluebirds.org
SUMMARY:Wild Birds Unlimited | Augusta\, GA
DESCRIPTION:
URL:https://southcarolinabluebirds.org/event/wild-birds-unlimited-augusta-ga-3/
END:VEVENT
BEGIN:VEVENT
DTSTART;TZID=UTC:20240224T090000
DTEND;TZID=UTC:20240224T110000
DTSTAMP:20260425T130037
CREATED:20240223T195556Z
LAST-MODIFIED:20240223T200217Z
UID:2971-1708765200-1708772400@southcarolinabluebirds.org
SUMMARY:Wild Birds Unlimited | Augusta\, GA
DESCRIPTION:
URL:https://southcarolinabluebirds.org/event/wild-birds-unlimited-augusta-ga-2/
CATEGORIES:Presentations
END:VEVENT
BEGIN:VEVENT
DTSTART;TZID=UTC:20240217T140000
DTEND;TZID=UTC:20240217T160000
DTSTAMP:20260425T130037
CREATED:20231218T152118Z
LAST-MODIFIED:20240213T153900Z
UID:2893-1708178400-1708185600@southcarolinabluebirds.org
SUMMARY:Summers Corner Bluebird Brigade | Summerville\, SC
DESCRIPTION:
URL:https://southcarolinabluebirds.org/event/summers-corner-bluebird-brigade-summerville-sc/
CATEGORIES:Presentations
END:VEVENT
BEGIN:VEVENT
DTSTART;TZID=UTC:20240217T100000
DTEND;TZID=UTC:20240217T120000
DTSTAMP:20260425T130037
CREATED:20231008T120917Z
LAST-MODIFIED:20240213T153753Z
UID:2784-1708164000-1708171200@southcarolinabluebirds.org
SUMMARY:Wild Birds Unlimited -  Columbia\, SC
DESCRIPTION:
URL:https://southcarolinabluebirds.org/event/wild-birds-unlimited-columbia-sc/
CATEGORIES:Presentations
END:VEVENT
BEGIN:VEVENT
DTSTART;TZID=UTC:20240214T150000
DTEND;TZID=UTC:20240214T170000
DTSTAMP:20260425T130037
CREATED:20230414T120251Z
LAST-MODIFIED:20240213T153629Z
UID:2649-1707922800-1707930000@southcarolinabluebirds.org
SUMMARY:Azalea Garden Club - Manning\, SC
DESCRIPTION:
URL:https://southcarolinabluebirds.org/event/azalea-garden-club-manning-sc/
CATEGORIES:Presentations
END:VEVENT
BEGIN:VEVENT
DTSTART;TZID=UTC:20240214T110000
DTEND;TZID=UTC:20240214T130000
DTSTAMP:20260425T130037
CREATED:20230802T201717Z
LAST-MODIFIED:20240213T153710Z
UID:2757-1707908400-1707915600@southcarolinabluebirds.org
SUMMARY:St. Paul’s Garden Club | Yonges island\, SC
DESCRIPTION:
URL:https://southcarolinabluebirds.org/event/st-pauls-garden-club-yonges-island-sc/
CATEGORIES:Presentations
END:VEVENT
BEGIN:VEVENT
DTSTART;VALUE=DATE:20240210
DTEND;VALUE=DATE:20240211
DTSTAMP:20260425T130037
CREATED:20240119T121316Z
LAST-MODIFIED:20240119T121316Z
UID:2924-1707523200-1707609599@southcarolinabluebirds.org
SUMMARY:Cold Creek Nurseries | Aiken\, SC
DESCRIPTION:
URL:https://southcarolinabluebirds.org/event/cold-creek-nurseries-aiken-sc/
CATEGORIES:Presentations
END:VEVENT
BEGIN:VEVENT
DTSTART;VALUE=DATE:20240209
DTEND;VALUE=DATE:20240210
DTSTAMP:20260425T130037
CREATED:20240116T125532Z
LAST-MODIFIED:20240116T125532Z
UID:2912-1707436800-1707523199@southcarolinabluebirds.org
SUMMARY:Walhalla High School | Walhalla\, SC
DESCRIPTION:
URL:https://southcarolinabluebirds.org/event/walhalla-high-school-walhalla-sc-2/
CATEGORIES:Presentations
END:VEVENT
BEGIN:VEVENT
DTSTART;VALUE=DATE:20240208
DTEND;VALUE=DATE:20240209
DTSTAMP:20260425T130037
CREATED:20230214T161741Z
LAST-MODIFIED:20230524T103940Z
UID:2109-1707350400-1707436799@southcarolinabluebirds.org
SUMMARY:4 Seasons Garden Club Greenwood\, SC
DESCRIPTION:
URL:https://southcarolinabluebirds.org/event/4-seasons-garden-club-greenwood-sc/
CATEGORIES:Presentations
END:VEVENT
BEGIN:VEVENT
DTSTART;VALUE=DATE:20240207
DTEND;VALUE=DATE:20240208
DTSTAMP:20260425T130037
CREATED:20230526T162851Z
LAST-MODIFIED:20230526T162851Z
UID:2701-1707264000-1707350399@southcarolinabluebirds.org
SUMMARY:Sun City Bird Club | Bluffton\, SC
DESCRIPTION:
URL:https://southcarolinabluebirds.org/event/sun-city-bird-club-bluffton-sc/
CATEGORIES:Presentations
END:VEVENT
BEGIN:VEVENT
DTSTART;VALUE=DATE:20240126
DTEND;VALUE=DATE:20240127
DTSTAMP:20260425T130037
CREATED:20231128T205055Z
LAST-MODIFIED:20231128T205055Z
UID:2881-1706227200-1706313599@southcarolinabluebirds.org
SUMMARY:USCA | Aiken SC
DESCRIPTION:
URL:https://southcarolinabluebirds.org/event/usca-aiken-sc/
CATEGORIES:Presentations
END:VEVENT
END:VCALENDAR