BEGIN:VCALENDAR
VERSION:2.0
PRODID:-//South Carolina Bluebird Society - ECPv6.15.20//NONSGML v1.0//EN
CALSCALE:GREGORIAN
METHOD:PUBLISH
X-WR-CALNAME:South Carolina Bluebird Society
X-ORIGINAL-URL:https://southcarolinabluebirds.org
X-WR-CALDESC:Events for South Carolina Bluebird Society
REFRESH-INTERVAL;VALUE=DURATION:PT1H
X-Robots-Tag:noindex
X-PUBLISHED-TTL:PT1H
BEGIN:VTIMEZONE
TZID:UTC
BEGIN:STANDARD
TZOFFSETFROM:+0000
TZOFFSETTO:+0000
TZNAME:UTC
DTSTART:20220101T000000
END:STANDARD
END:VTIMEZONE
BEGIN:VEVENT
DTSTART;TZID=UTC:20240302T130000
DTEND;TZID=UTC:20240302T150000
DTSTAMP:20260425T150051
CREATED:20231107T113010Z
LAST-MODIFIED:20240213T153936Z
UID:2792-1709384400-1709391600@southcarolinabluebirds.org
SUMMARY:Reed Creek Park | Martinez\, Ga.
DESCRIPTION:
URL:https://southcarolinabluebirds.org/event/reed-creek-park-martinez-ga/
CATEGORIES:Presentations
END:VEVENT
BEGIN:VEVENT
DTSTART;VALUE=DATE:20240302
DTEND;VALUE=DATE:20240303
DTSTAMP:20260425T150051
CREATED:20240129T172719Z
LAST-MODIFIED:20240129T172719Z
UID:2929-1709337600-1709423999@southcarolinabluebirds.org
SUMMARY:Wild Birds Unlimited | Asheville\, NC
DESCRIPTION:
URL:https://southcarolinabluebirds.org/event/wild-birds-unlimited-asheville-nc/
CATEGORIES:Presentations
END:VEVENT
BEGIN:VEVENT
DTSTART;TZID=UTC:20240224T110000
DTEND;TZID=UTC:20240224T130000
DTSTAMP:20260425T150051
CREATED:20240223T200022Z
LAST-MODIFIED:20240223T200022Z
UID:2974-1708772400-1708779600@southcarolinabluebirds.org
SUMMARY:Wild Birds Unlimited | Augusta\, GA
DESCRIPTION:
URL:https://southcarolinabluebirds.org/event/wild-birds-unlimited-augusta-ga-3/
END:VEVENT
BEGIN:VEVENT
DTSTART;TZID=UTC:20240224T090000
DTEND;TZID=UTC:20240224T110000
DTSTAMP:20260425T150051
CREATED:20240223T195556Z
LAST-MODIFIED:20240223T200217Z
UID:2971-1708765200-1708772400@southcarolinabluebirds.org
SUMMARY:Wild Birds Unlimited | Augusta\, GA
DESCRIPTION:
URL:https://southcarolinabluebirds.org/event/wild-birds-unlimited-augusta-ga-2/
CATEGORIES:Presentations
END:VEVENT
BEGIN:VEVENT
DTSTART;TZID=UTC:20240217T140000
DTEND;TZID=UTC:20240217T160000
DTSTAMP:20260425T150051
CREATED:20231218T152118Z
LAST-MODIFIED:20240213T153900Z
UID:2893-1708178400-1708185600@southcarolinabluebirds.org
SUMMARY:Summers Corner Bluebird Brigade | Summerville\, SC
DESCRIPTION:
URL:https://southcarolinabluebirds.org/event/summers-corner-bluebird-brigade-summerville-sc/
CATEGORIES:Presentations
END:VEVENT
BEGIN:VEVENT
DTSTART;TZID=UTC:20240217T100000
DTEND;TZID=UTC:20240217T120000
DTSTAMP:20260425T150051
CREATED:20231008T120917Z
LAST-MODIFIED:20240213T153753Z
UID:2784-1708164000-1708171200@southcarolinabluebirds.org
SUMMARY:Wild Birds Unlimited -  Columbia\, SC
DESCRIPTION:
URL:https://southcarolinabluebirds.org/event/wild-birds-unlimited-columbia-sc/
CATEGORIES:Presentations
END:VEVENT
BEGIN:VEVENT
DTSTART;TZID=UTC:20240214T150000
DTEND;TZID=UTC:20240214T170000
DTSTAMP:20260425T150051
CREATED:20230414T120251Z
LAST-MODIFIED:20240213T153629Z
UID:2649-1707922800-1707930000@southcarolinabluebirds.org
SUMMARY:Azalea Garden Club - Manning\, SC
DESCRIPTION:
URL:https://southcarolinabluebirds.org/event/azalea-garden-club-manning-sc/
CATEGORIES:Presentations
END:VEVENT
BEGIN:VEVENT
DTSTART;TZID=UTC:20240214T110000
DTEND;TZID=UTC:20240214T130000
DTSTAMP:20260425T150051
CREATED:20230802T201717Z
LAST-MODIFIED:20240213T153710Z
UID:2757-1707908400-1707915600@southcarolinabluebirds.org
SUMMARY:St. Paul’s Garden Club | Yonges island\, SC
DESCRIPTION:
URL:https://southcarolinabluebirds.org/event/st-pauls-garden-club-yonges-island-sc/
CATEGORIES:Presentations
END:VEVENT
BEGIN:VEVENT
DTSTART;VALUE=DATE:20240210
DTEND;VALUE=DATE:20240211
DTSTAMP:20260425T150051
CREATED:20240119T121316Z
LAST-MODIFIED:20240119T121316Z
UID:2924-1707523200-1707609599@southcarolinabluebirds.org
SUMMARY:Cold Creek Nurseries | Aiken\, SC
DESCRIPTION:
URL:https://southcarolinabluebirds.org/event/cold-creek-nurseries-aiken-sc/
CATEGORIES:Presentations
END:VEVENT
BEGIN:VEVENT
DTSTART;VALUE=DATE:20240209
DTEND;VALUE=DATE:20240210
DTSTAMP:20260425T150051
CREATED:20240116T125532Z
LAST-MODIFIED:20240116T125532Z
UID:2912-1707436800-1707523199@southcarolinabluebirds.org
SUMMARY:Walhalla High School | Walhalla\, SC
DESCRIPTION:
URL:https://southcarolinabluebirds.org/event/walhalla-high-school-walhalla-sc-2/
CATEGORIES:Presentations
END:VEVENT
BEGIN:VEVENT
DTSTART;VALUE=DATE:20240208
DTEND;VALUE=DATE:20240209
DTSTAMP:20260425T150051
CREATED:20230214T161741Z
LAST-MODIFIED:20230524T103940Z
UID:2109-1707350400-1707436799@southcarolinabluebirds.org
SUMMARY:4 Seasons Garden Club Greenwood\, SC
DESCRIPTION:
URL:https://southcarolinabluebirds.org/event/4-seasons-garden-club-greenwood-sc/
CATEGORIES:Presentations
END:VEVENT
BEGIN:VEVENT
DTSTART;VALUE=DATE:20240207
DTEND;VALUE=DATE:20240208
DTSTAMP:20260425T150051
CREATED:20230526T162851Z
LAST-MODIFIED:20230526T162851Z
UID:2701-1707264000-1707350399@southcarolinabluebirds.org
SUMMARY:Sun City Bird Club | Bluffton\, SC
DESCRIPTION:
URL:https://southcarolinabluebirds.org/event/sun-city-bird-club-bluffton-sc/
CATEGORIES:Presentations
END:VEVENT
BEGIN:VEVENT
DTSTART;VALUE=DATE:20240126
DTEND;VALUE=DATE:20240127
DTSTAMP:20260425T150051
CREATED:20231128T205055Z
LAST-MODIFIED:20231128T205055Z
UID:2881-1706227200-1706313599@southcarolinabluebirds.org
SUMMARY:USCA | Aiken SC
DESCRIPTION:
URL:https://southcarolinabluebirds.org/event/usca-aiken-sc/
CATEGORIES:Presentations
END:VEVENT
BEGIN:VEVENT
DTSTART;VALUE=DATE:20240120
DTEND;VALUE=DATE:20240121
DTSTAMP:20260425T150051
CREATED:20230622T192724Z
LAST-MODIFIED:20230622T192724Z
UID:2728-1705708800-1705795199@southcarolinabluebirds.org
SUMMARY:Wild Birds Unlimited | Surfside Beach\, SC
DESCRIPTION:
URL:https://southcarolinabluebirds.org/event/wild-birds-unlimited-surfside-beach-sc/
CATEGORIES:Presentations
END:VEVENT
BEGIN:VEVENT
DTSTART;VALUE=DATE:20240115
DTEND;VALUE=DATE:20240116
DTSTAMP:20260425T150051
CREATED:20240102T134814Z
LAST-MODIFIED:20240102T134814Z
UID:2899-1705276800-1705363199@southcarolinabluebirds.org
SUMMARY:After Six Garden Club | Martinez\, Ga.
DESCRIPTION:
URL:https://southcarolinabluebirds.org/event/after-six-garden-club-martinez-ga/
CATEGORIES:Presentations
END:VEVENT
BEGIN:VEVENT
DTSTART;VALUE=DATE:20240108
DTEND;VALUE=DATE:20240109
DTSTAMP:20260425T150051
CREATED:20231221T211953Z
LAST-MODIFIED:20231221T211953Z
UID:2896-1704672000-1704758399@southcarolinabluebirds.org
SUMMARY:Sandy Acres Pine Needle Garden Club | Jackson\, SC
DESCRIPTION:
URL:https://southcarolinabluebirds.org/event/sandy-acres-pine-needle-garden-club-jackson-sc/
CATEGORIES:Presentations
END:VEVENT
BEGIN:VEVENT
DTSTART;VALUE=DATE:20240108
DTEND;VALUE=DATE:20240109
DTSTAMP:20260425T150051
CREATED:20231211T174228Z
LAST-MODIFIED:20231211T174228Z
UID:2886-1704672000-1704758399@southcarolinabluebirds.org
SUMMARY:River Island Club | Evans\, Ga.
DESCRIPTION:
URL:https://southcarolinabluebirds.org/event/river-island-club-evans-ga/
CATEGORIES:Presentations
END:VEVENT
BEGIN:VEVENT
DTSTART;VALUE=DATE:20231113
DTEND;VALUE=DATE:20231114
DTSTAMP:20260425T150051
CREATED:20230915T220731Z
LAST-MODIFIED:20231107T112923Z
UID:2778-1699833600-1699919999@southcarolinabluebirds.org
SUMMARY:Women Of Woodside -  Aiken\, SC
DESCRIPTION:
URL:https://southcarolinabluebirds.org/event/women-of-woodside-aiken-sc/
CATEGORIES:Presentations
END:VEVENT
BEGIN:VEVENT
DTSTART;VALUE=DATE:20231107
DTEND;VALUE=DATE:20231108
DTSTAMP:20260425T150051
CREATED:20231027T173201Z
LAST-MODIFIED:20231027T173201Z
UID:2789-1699315200-1699401599@southcarolinabluebirds.org
SUMMARY:Spirax Sarco | Blythwood\, SC
DESCRIPTION:
URL:https://southcarolinabluebirds.org/event/spirax-sarco-blythwood-sc/
CATEGORIES:Presentations
END:VEVENT
BEGIN:VEVENT
DTSTART;VALUE=DATE:20231024
DTEND;VALUE=DATE:20231025
DTSTAMP:20260425T150051
CREATED:20230214T161814Z
LAST-MODIFIED:20230615T133425Z
UID:2111-1698105600-1698191999@southcarolinabluebirds.org
SUMMARY:Hagood Mill | Pickens\, SC
DESCRIPTION:
URL:https://southcarolinabluebirds.org/event/hagood-mill-pickens-sc/
CATEGORIES:Presentations
END:VEVENT
BEGIN:VEVENT
DTSTART;VALUE=DATE:20231023
DTEND;VALUE=DATE:20231024
DTSTAMP:20260425T150051
CREATED:20230605T214836Z
LAST-MODIFIED:20230605T214836Z
UID:2706-1698019200-1698105599@southcarolinabluebirds.org
SUMMARY:Aiken Senior Life Services |  Aiken\, SC
DESCRIPTION:
URL:https://southcarolinabluebirds.org/event/aiken-senior-life-services-aiken-sc/
CATEGORIES:Presentations
END:VEVENT
BEGIN:VEVENT
DTSTART;VALUE=DATE:20231015
DTEND;VALUE=DATE:20231016
DTSTAMP:20260425T150051
CREATED:20231008T121008Z
LAST-MODIFIED:20231008T121008Z
UID:2786-1697328000-1697414399@southcarolinabluebirds.org
SUMMARY:Nature Rocks - Hopelands Garden -  Aiken\, SC
DESCRIPTION:
URL:https://southcarolinabluebirds.org/event/nature-rocks-hopelands-garden-aiken-sc/
CATEGORIES:Presentations
END:VEVENT
BEGIN:VEVENT
DTSTART;VALUE=DATE:20230928
DTEND;VALUE=DATE:20230929
DTSTAMP:20260425T150051
CREATED:20230306T143431Z
LAST-MODIFIED:20230306T143431Z
UID:2594-1695859200-1695945599@southcarolinabluebirds.org
SUMMARY:USCA Center for Life Long Learning
DESCRIPTION:Thursday\, September 28\, 2023\nUSCA Center for Life Long Learning\nAiken\, SC
URL:https://southcarolinabluebirds.org/event/usca-center-for-life-long-learning/
END:VEVENT
BEGIN:VEVENT
DTSTART;VALUE=DATE:20230916
DTEND;VALUE=DATE:20230917
DTSTAMP:20260425T150051
CREATED:20230718T202017Z
LAST-MODIFIED:20231128T205122Z
UID:2751-1694822400-1694908799@southcarolinabluebirds.org
SUMMARY:Simpsonville Garden Club Simpsonville\, SC
DESCRIPTION:
URL:https://southcarolinabluebirds.org/event/simpsonville-garden-club-simpsonville-sc/
CATEGORIES:Presentations
END:VEVENT
BEGIN:VEVENT
DTSTART;VALUE=DATE:20230816
DTEND;VALUE=DATE:20230817
DTSTAMP:20260425T150051
CREATED:20230526T162819Z
LAST-MODIFIED:20230526T162819Z
UID:2699-1692144000-1692230399@southcarolinabluebirds.org
SUMMARY:Clarice Wilson Garden Club | Greenville\, SC
DESCRIPTION:
URL:https://southcarolinabluebirds.org/event/clarice-wilson-garden-club-greenville-sc/
CATEGORIES:Presentations
END:VEVENT
BEGIN:VEVENT
DTSTART;VALUE=DATE:20230722
DTEND;VALUE=DATE:20230723
DTSTAMP:20260425T150051
CREATED:20230605T214735Z
LAST-MODIFIED:20230605T214735Z
UID:2704-1689984000-1690070399@southcarolinabluebirds.org
SUMMARY:Aiken Senior Life Services Open House | Aiken\, SC
DESCRIPTION:
URL:https://southcarolinabluebirds.org/event/aiken-senior-life-services-open-house-aiken-sc/
CATEGORIES:Presentations
END:VEVENT
BEGIN:VEVENT
DTSTART;VALUE=DATE:20230711
DTEND;VALUE=DATE:20230712
DTSTAMP:20260425T150051
CREATED:20230425T150142Z
LAST-MODIFIED:20230425T150142Z
UID:2663-1689033600-1689119999@southcarolinabluebirds.org
SUMMARY:Reed Creek Nature Center - Martinez\, Georgia
DESCRIPTION:
URL:https://southcarolinabluebirds.org/event/reed-creek-nature-center-martinez-georgia/
CATEGORIES:Presentations
END:VEVENT
BEGIN:VEVENT
DTSTART;TZID=UTC:20230624T080000
DTEND;TZID=UTC:20230624T170000
DTSTAMP:20260425T150051
CREATED:20230612T213416Z
LAST-MODIFIED:20230612T213416Z
UID:2724-1687593600-1687626000@southcarolinabluebirds.org
SUMMARY:Cold Creek | Aiken\, SC
DESCRIPTION:
URL:https://southcarolinabluebirds.org/event/cold-creek-aiken-sc-2/
CATEGORIES:Presentations
END:VEVENT
BEGIN:VEVENT
DTSTART;VALUE=DATE:20230617
DTEND;VALUE=DATE:20230618
DTSTAMP:20260425T150051
CREATED:20230612T213342Z
LAST-MODIFIED:20230612T213342Z
UID:2722-1686960000-1687046399@southcarolinabluebirds.org
SUMMARY:Cold Creek | Aiken\, SC
DESCRIPTION:
URL:https://southcarolinabluebirds.org/event/cold-creek-aiken-sc/
CATEGORIES:Presentations
END:VEVENT
BEGIN:VEVENT
DTSTART;VALUE=DATE:20230612
DTEND;VALUE=DATE:20230613
DTSTAMP:20260425T150051
CREATED:20230424T205933Z
LAST-MODIFIED:20230424T205933Z
UID:2660-1686528000-1686614399@southcarolinabluebirds.org
SUMMARY:“Sunny Monday” Group at St. John’s UMC - Aiken\, SC
DESCRIPTION:
URL:https://southcarolinabluebirds.org/event/sunny-monday-group-at-st-johns-umc-aiken-sc/
CATEGORIES:Presentations
END:VEVENT
END:VCALENDAR