BEGIN:VCALENDAR
VERSION:2.0
PRODID:-//South Carolina Bluebird Society - ECPv6.15.20//NONSGML v1.0//EN
CALSCALE:GREGORIAN
METHOD:PUBLISH
X-WR-CALNAME:South Carolina Bluebird Society
X-ORIGINAL-URL:https://southcarolinabluebirds.org
X-WR-CALDESC:Events for South Carolina Bluebird Society
REFRESH-INTERVAL;VALUE=DURATION:PT1H
X-Robots-Tag:noindex
X-PUBLISHED-TTL:PT1H
BEGIN:VTIMEZONE
TZID:UTC
BEGIN:STANDARD
TZOFFSETFROM:+0000
TZOFFSETTO:+0000
TZNAME:UTC
DTSTART:20230101T000000
END:STANDARD
END:VTIMEZONE
BEGIN:VEVENT
DTSTART;TZID=UTC:20250328T090000
DTEND;TZID=UTC:20250328T150000
DTSTAMP:20260424T153913
CREATED:20250324T155948Z
LAST-MODIFIED:20250324T155948Z
UID:3272-1743152400-1743174000@southcarolinabluebirds.org
SUMMARY:West Low Country GCSC | Beaufort\, SC
DESCRIPTION:
URL:https://southcarolinabluebirds.org/event/west-low-country-gcsc-beaufort-sc/
CATEGORIES:Presentations
END:VEVENT
BEGIN:VEVENT
DTSTART;TZID=UTC:20250326T140000
DTEND;TZID=UTC:20250326T150000
DTSTAMP:20260424T153913
CREATED:20250225T161543Z
LAST-MODIFIED:20250225T161543Z
UID:3263-1742997600-1743001200@southcarolinabluebirds.org
SUMMARY:Columbia County Senior Center | Grovetown\, GA
DESCRIPTION:
URL:https://southcarolinabluebirds.org/event/columbia-county-senior-center-grovetown-ga/
CATEGORIES:Presentations
END:VEVENT
BEGIN:VEVENT
DTSTART;TZID=UTC:20250322T150000
DTEND;TZID=UTC:20250322T160000
DTSTAMP:20260424T153913
CREATED:20250203T184020Z
LAST-MODIFIED:20250203T184020Z
UID:3179-1742655600-1742659200@southcarolinabluebirds.org
SUMMARY:Wild Birds Unlimited | Athens\, GA
DESCRIPTION:
URL:https://southcarolinabluebirds.org/event/wild-birds-unlimited-athens-ga/
CATEGORIES:Presentations
END:VEVENT
BEGIN:VEVENT
DTSTART;TZID=UTC:20250315T090000
DTEND;TZID=UTC:20250315T100000
DTSTAMP:20260424T153913
CREATED:20241213T215342Z
LAST-MODIFIED:20241213T215342Z
UID:3144-1742029200-1742032800@southcarolinabluebirds.org
SUMMARY:WBU Augusta | Augusta\, GA
DESCRIPTION:
URL:https://southcarolinabluebirds.org/event/wbu-augusta-augusta-ga-3/
CATEGORIES:Presentations
END:VEVENT
BEGIN:VEVENT
DTSTART;TZID=UTC:20250314T090000
DTEND;TZID=UTC:20250314T140000
DTSTAMP:20260424T153913
CREATED:20250122T205911Z
LAST-MODIFIED:20250122T205911Z
UID:3164-1741942800-1741960800@southcarolinabluebirds.org
SUMMARY:West Piedmont District GC | Greer\,  SC
DESCRIPTION:
URL:https://southcarolinabluebirds.org/event/west-piedmont-district-gc-greer-sc/
CATEGORIES:Presentations
END:VEVENT
BEGIN:VEVENT
DTSTART;TZID=UTC:20250312T100000
DTEND;TZID=UTC:20250312T110000
DTSTAMP:20260424T153913
CREATED:20240512T175353Z
LAST-MODIFIED:20240512T175353Z
UID:3031-1741773600-1741777200@southcarolinabluebirds.org
SUMMARY:Lilac Garden Club | Columbia\, SC
DESCRIPTION:
URL:https://southcarolinabluebirds.org/event/lilac-garden-club-columbia-sc/
CATEGORIES:Presentations
END:VEVENT
BEGIN:VEVENT
DTSTART;TZID=UTC:20250311T140000
DTEND;TZID=UTC:20250311T150000
DTSTAMP:20260424T153913
CREATED:20240820T150729Z
LAST-MODIFIED:20240820T150729Z
UID:3087-1741701600-1741705200@southcarolinabluebirds.org
SUMMARY:Virginia’s Pride Garden Club | Manning\, SC
DESCRIPTION:
URL:https://southcarolinabluebirds.org/event/virginias-pride-garden-club-manning-sc-2/
CATEGORIES:Presentations
END:VEVENT
BEGIN:VEVENT
DTSTART;TZID=UTC:20250308T103000
DTEND;TZID=UTC:20250308T113000
DTSTAMP:20260424T153913
CREATED:20241205T175130Z
LAST-MODIFIED:20241205T175140Z
UID:3136-1741429800-1741433400@southcarolinabluebirds.org
SUMMARY:Children’s Garden | Columbia\, SC
DESCRIPTION:
URL:https://southcarolinabluebirds.org/event/childrens-garden-columbia-sc/
CATEGORIES:Presentations
END:VEVENT
BEGIN:VEVENT
DTSTART;TZID=UTC:20250302T150000
DTEND;TZID=UTC:20250302T170000
DTSTAMP:20260424T153913
CREATED:20250130T152429Z
LAST-MODIFIED:20250130T152429Z
UID:3177-1740927600-1740934800@southcarolinabluebirds.org
SUMMARY:Wild Birds Unlimited | Mt Pleasant\, SC
DESCRIPTION:
URL:https://southcarolinabluebirds.org/event/wild-birds-unlimited-mt-pleasant-sc/
CATEGORIES:Presentations
END:VEVENT
BEGIN:VEVENT
DTSTART;TZID=UTC:20250301T100000
DTEND;TZID=UTC:20250301T230000
DTSTAMP:20260424T153913
CREATED:20240803T123805Z
LAST-MODIFIED:20240803T123805Z
UID:3069-1740823200-1740870000@southcarolinabluebirds.org
SUMMARY:Savannah Lakes Village Bluebird Conservation Club | McCormick\, SC
DESCRIPTION:
URL:https://southcarolinabluebirds.org/event/savannah-lakes-village-bluebird-conservation-club-mccormick-sc/
CATEGORIES:Presentations
END:VEVENT
BEGIN:VEVENT
DTSTART;TZID=UTC:20250228T160000
DTEND;TZID=UTC:20250228T170000
DTSTAMP:20260424T153913
CREATED:20250207T164216Z
LAST-MODIFIED:20250207T164216Z
UID:3183-1740758400-1740762000@southcarolinabluebirds.org
SUMMARY:Wild Birds Unlimited | Asheville\, NC
DESCRIPTION:
URL:https://southcarolinabluebirds.org/event/wild-birds-unlimited-asheville-nc-2/
CATEGORIES:Presentations
END:VEVENT
BEGIN:VEVENT
DTSTART;TZID=UTC:20250222T130000
DTEND;TZID=UTC:20250222T140000
DTSTAMP:20260424T153913
CREATED:20241121T154939Z
LAST-MODIFIED:20241121T154939Z
UID:3123-1740229200-1740232800@southcarolinabluebirds.org
SUMMARY:The Bluebird Brigade | Summerville\, SC
DESCRIPTION:
URL:https://southcarolinabluebirds.org/event/the-bluebird-brigade-summerville-sc/
CATEGORIES:Presentations
END:VEVENT
BEGIN:VEVENT
DTSTART;TZID=UTC:20250220T180000
DTEND;TZID=UTC:20250220T190000
DTSTAMP:20260424T153913
CREATED:20240709T125038Z
LAST-MODIFIED:20240709T125038Z
UID:3054-1740074400-1740078000@southcarolinabluebirds.org
SUMMARY:Columbia Garden Club | Columbia\, SC
DESCRIPTION:
URL:https://southcarolinabluebirds.org/event/columbia-garden-club-columbia-sc/
CATEGORIES:Presentations
END:VEVENT
BEGIN:VEVENT
DTSTART;TZID=UTC:20250219T150000
DTEND;TZID=UTC:20250219T160000
DTSTAMP:20260424T153913
CREATED:20240709T124959Z
LAST-MODIFIED:20240709T124959Z
UID:3052-1739977200-1739980800@southcarolinabluebirds.org
SUMMARY:Cedar Creek Ladies Club | Aiken\, SC
DESCRIPTION:
URL:https://southcarolinabluebirds.org/event/cedar-creek-ladies-club-aiken-sc/
CATEGORIES:Presentations
END:VEVENT
BEGIN:VEVENT
DTSTART;TZID=UTC:20250215T100000
DTEND;TZID=UTC:20250215T110000
DTSTAMP:20260424T153913
CREATED:20241126T173412Z
LAST-MODIFIED:20241126T173412Z
UID:3129-1739613600-1739617200@southcarolinabluebirds.org
SUMMARY:Reed Creek Park | Martinez\, GA
DESCRIPTION:
URL:https://southcarolinabluebirds.org/event/reed-creek-park-martinez-ga-2/
CATEGORIES:Presentations
END:VEVENT
BEGIN:VEVENT
DTSTART;TZID=UTC:20250214T100000
DTEND;TZID=UTC:20250214T110000
DTSTAMP:20260424T153913
CREATED:20250208T145228Z
LAST-MODIFIED:20250208T145228Z
UID:3185-1739527200-1739530800@southcarolinabluebirds.org
SUMMARY:SC Botanical Gardens | Clemson\, SC
DESCRIPTION:
URL:https://southcarolinabluebirds.org/event/sc-botanical-gardens-clemson-sc/
CATEGORIES:Presentations
END:VEVENT
BEGIN:VEVENT
DTSTART;TZID=UTC:20250211T100000
DTEND;TZID=UTC:20250211T110000
DTSTAMP:20260424T153913
CREATED:20240315T192301Z
LAST-MODIFIED:20240320T193328Z
UID:2996-1739268000-1739271600@southcarolinabluebirds.org
SUMMARY:Flower Town Garden Club | Summerville\, SC
DESCRIPTION:
URL:https://southcarolinabluebirds.org/event/flower-town-garden-club-summerville-sc/
CATEGORIES:Presentations
END:VEVENT
BEGIN:VEVENT
DTSTART;TZID=UTC:20250208T090000
DTEND;TZID=UTC:20250208T100000
DTSTAMP:20260424T153913
CREATED:20241213T215310Z
LAST-MODIFIED:20241213T215310Z
UID:3142-1739005200-1739008800@southcarolinabluebirds.org
SUMMARY:WBU Augusta | Augusta\, GA
DESCRIPTION:
URL:https://southcarolinabluebirds.org/event/wbu-augusta-augusta-ga-2/
CATEGORIES:Presentations
END:VEVENT
BEGIN:VEVENT
DTSTART;TZID=UTC:20250201T100000
DTEND;TZID=UTC:20250201T110000
DTSTAMP:20260424T153913
CREATED:20241213T215412Z
LAST-MODIFIED:20241213T215412Z
UID:3146-1738404000-1738407600@southcarolinabluebirds.org
SUMMARY:Cold Creek Nursery | Aiken\, SC
DESCRIPTION:
URL:https://southcarolinabluebirds.org/event/cold-creek-nursery-aiken-sc/
CATEGORIES:Presentations
END:VEVENT
BEGIN:VEVENT
DTSTART;TZID=UTC:20250130T140000
DTEND;TZID=UTC:20250130T150000
DTSTAMP:20260424T153913
CREATED:20241002T103716Z
LAST-MODIFIED:20241002T103730Z
UID:3102-1738245600-1738249200@southcarolinabluebirds.org
SUMMARY:Waring Senior Center | Charleston\, SC
DESCRIPTION:
URL:https://southcarolinabluebirds.org/event/waring-senior-center-charleston-sc/
CATEGORIES:Presentations
END:VEVENT
BEGIN:VEVENT
DTSTART;TZID=UTC:20250130T110000
DTEND;TZID=UTC:20250130T120000
DTSTAMP:20260424T153913
CREATED:20241002T103552Z
LAST-MODIFIED:20241002T103552Z
UID:3100-1738234800-1738238400@southcarolinabluebirds.org
SUMMARY:Lowcountry Senior Center | James Island Charleston\, SC
DESCRIPTION:
URL:https://southcarolinabluebirds.org/event/lowcountry-senior-center-james-island-charleston-sc/
CATEGORIES:Presentations
END:VEVENT
BEGIN:VEVENT
DTSTART;TZID=UTC:20250127T140000
DTEND;TZID=UTC:20250127T150000
DTSTAMP:20260424T153913
CREATED:20240803T123710Z
LAST-MODIFIED:20240803T123710Z
UID:3066-1737986400-1737990000@southcarolinabluebirds.org
SUMMARY:Carolina Wren Garden Club | Clinton\, SC
DESCRIPTION:
URL:https://southcarolinabluebirds.org/event/carolina-wren-garden-club-clinton-sc/
CATEGORIES:Presentations
END:VEVENT
BEGIN:VEVENT
DTSTART;TZID=UTC:20250125T090000
DTEND;TZID=UTC:20250125T100000
DTSTAMP:20260424T153913
CREATED:20241213T215211Z
LAST-MODIFIED:20241213T215211Z
UID:3140-1737795600-1737799200@southcarolinabluebirds.org
SUMMARY:WBU Augusta | Augusta\, GA
DESCRIPTION:
URL:https://southcarolinabluebirds.org/event/wbu-augusta-augusta-ga/
CATEGORIES:Presentations
END:VEVENT
BEGIN:VEVENT
DTSTART;TZID=UTC:20250118T090000
DTEND;TZID=UTC:20250118T090000
DTSTAMP:20260424T153913
CREATED:20240409T170149Z
LAST-MODIFIED:20240410T132751Z
UID:3026-1737190800-1737190800@southcarolinabluebirds.org
SUMMARY:WBU Grand Strand | Surfside Beach\, SC
DESCRIPTION:
URL:https://southcarolinabluebirds.org/event/wbu-grand-strand-surfside-beach-sc/
CATEGORIES:Presentations
END:VEVENT
BEGIN:VEVENT
DTSTART;TZID=UTC:20250108T110000
DTEND;TZID=UTC:20250108T120000
DTSTAMP:20260424T153913
CREATED:20240315T192209Z
LAST-MODIFIED:20240315T192209Z
UID:2994-1736334000-1736337600@southcarolinabluebirds.org
SUMMARY:PEO | Aiken\, SC
DESCRIPTION:
URL:https://southcarolinabluebirds.org/event/peo-aiken-sc/
CATEGORIES:Presentations
END:VEVENT
BEGIN:VEVENT
DTSTART;TZID=UTC:20241212T110000
DTEND;TZID=UTC:20241212T120000
DTSTAMP:20260424T153913
CREATED:20240820T150537Z
LAST-MODIFIED:20240820T150537Z
UID:3081-1734001200-1734004800@southcarolinabluebirds.org
SUMMARY:Heritage Garden Club | Anderson\, SC
DESCRIPTION:
URL:https://southcarolinabluebirds.org/event/heritage-garden-club-anderson-sc/
CATEGORIES:Presentations
END:VEVENT
BEGIN:VEVENT
DTSTART;TZID=UTC:20241206T100000
DTEND;TZID=UTC:20241206T110000
DTSTAMP:20260424T153913
CREATED:20241203T173035Z
LAST-MODIFIED:20241203T173035Z
UID:3133-1733479200-1733482800@southcarolinabluebirds.org
SUMMARY:Cook’s Farm | December Shopping Mkt.\, Trenton\, SC
DESCRIPTION:
URL:https://southcarolinabluebirds.org/event/cooks-farm-december-shopping-mkt-trenton-sc-2/
CATEGORIES:Presentations
END:VEVENT
BEGIN:VEVENT
DTSTART;TZID=UTC:20241206T080000
DTEND;TZID=UTC:20241206T210000
DTSTAMP:20260424T153913
CREATED:20241203T172828Z
LAST-MODIFIED:20241203T173154Z
UID:3131-1733472000-1733518800@southcarolinabluebirds.org
SUMMARY:Cook’s Farm | December Shopping Mkt.\, Trenton\, SC
DESCRIPTION:
URL:https://southcarolinabluebirds.org/event/cooks-farm-december-shopping-mkt-trenton-sc/
CATEGORIES:Presentations
END:VEVENT
BEGIN:VEVENT
DTSTART;TZID=UTC:20241120T110000
DTEND;TZID=UTC:20241120T120000
DTSTAMP:20260424T153913
CREATED:20241118T121519Z
LAST-MODIFIED:20241118T121519Z
UID:3118-1732100400-1732104000@southcarolinabluebirds.org
SUMMARY:Daffodil Garden Club | Greenwood\, SC
DESCRIPTION:
URL:https://southcarolinabluebirds.org/event/daffodil-garden-club-greenwood-sc/
CATEGORIES:Presentations
END:VEVENT
BEGIN:VEVENT
DTSTART;TZID=UTC:20241105T120000
DTEND;TZID=UTC:20241105T130000
DTSTAMP:20260424T153913
CREATED:20240820T150458Z
LAST-MODIFIED:20240820T150458Z
UID:3079-1730808000-1730811600@southcarolinabluebirds.org
SUMMARY:Columbia East Rotary Club | Columbia\, SC
DESCRIPTION:
URL:https://southcarolinabluebirds.org/event/columbia-east-rotary-club-columbia-sc/
CATEGORIES:Presentations
END:VEVENT
END:VCALENDAR