BEGIN:VCALENDAR
VERSION:2.0
PRODID:-//South Carolina Bluebird Society - ECPv6.15.20//NONSGML v1.0//EN
CALSCALE:GREGORIAN
METHOD:PUBLISH
X-ORIGINAL-URL:https://southcarolinabluebirds.org
X-WR-CALDESC:Events for South Carolina Bluebird Society
REFRESH-INTERVAL;VALUE=DURATION:PT1H
X-Robots-Tag:noindex
X-PUBLISHED-TTL:PT1H
BEGIN:VTIMEZONE
TZID:UTC
BEGIN:STANDARD
TZOFFSETFROM:+0000
TZOFFSETTO:+0000
TZNAME:UTC
DTSTART:20240101T000000
END:STANDARD
END:VTIMEZONE
BEGIN:VEVENT
DTSTART;TZID=UTC:20250405T100000
DTEND;TZID=UTC:20250405T140000
DTSTAMP:20260424T175128
CREATED:20250224T120317Z
LAST-MODIFIED:20250224T120317Z
UID:3258-1743847200-1743861600@southcarolinabluebirds.org
SUMMARY:Earth Day | Aiken\, SC
DESCRIPTION:
URL:https://southcarolinabluebirds.org/event/earth-day-aiken-sc/
CATEGORIES:Presentations
END:VEVENT
BEGIN:VEVENT
DTSTART;TZID=UTC:20250405T140000
DTEND;TZID=UTC:20250405T150000
DTSTAMP:20260424T175128
CREATED:20250307T175941Z
LAST-MODIFIED:20250307T175941Z
UID:3269-1743861600-1743865200@southcarolinabluebirds.org
SUMMARY:Wild Birds Unlimited | Lexington\, SC
DESCRIPTION:
URL:https://southcarolinabluebirds.org/event/wild-birds-unlimited-lexington-sc/
CATEGORIES:Presentations
END:VEVENT
BEGIN:VEVENT
DTSTART;TZID=UTC:20250409T110000
DTEND;TZID=UTC:20250409T120000
DTSTAMP:20260424T175128
CREATED:20250121T213722Z
LAST-MODIFIED:20250121T213722Z
UID:3162-1744196400-1744200000@southcarolinabluebirds.org
SUMMARY:Aiken Senior Life Services
DESCRIPTION:
URL:https://southcarolinabluebirds.org/event/aiken-senior-life-services/
CATEGORIES:Presentations
END:VEVENT
BEGIN:VEVENT
DTSTART;TZID=UTC:20250411T113000
DTEND;TZID=UTC:20250411T120000
DTSTAMP:20260424T175128
CREATED:20250401T095919Z
LAST-MODIFIED:20250401T095919Z
UID:3276-1744371000-1744372800@southcarolinabluebirds.org
SUMMARY:Walhalla High School | Cleveland\, SC
DESCRIPTION:
URL:https://southcarolinabluebirds.org/event/walhalla-high-school-cleveland-sc/
CATEGORIES:Presentations
END:VEVENT
BEGIN:VEVENT
DTSTART;TZID=UTC:20250419T110000
DTEND;TZID=UTC:20250419T120000
DTSTAMP:20260424T175128
CREATED:20250216T224009Z
LAST-MODIFIED:20250216T224009Z
UID:3233-1745060400-1745064000@southcarolinabluebirds.org
SUMMARY:Celadon | Beaufort\, SC
DESCRIPTION:
URL:https://southcarolinabluebirds.org/event/celadon-beaufort-sc/
CATEGORIES:Presentations
END:VEVENT
BEGIN:VEVENT
DTSTART;TZID=UTC:20250422T160000
DTEND;TZID=UTC:20250422T170000
DTSTAMP:20260424T175128
CREATED:20250411T200459Z
LAST-MODIFIED:20250411T200459Z
UID:3284-1745337600-1745341200@southcarolinabluebirds.org
SUMMARY:Tall Pines Stem Academy | Aiken\, SC
DESCRIPTION:
URL:https://southcarolinabluebirds.org/event/tall-pines-stem-academy-aiken-sc/
CATEGORIES:Presentations
END:VEVENT
BEGIN:VEVENT
DTSTART;TZID=UTC:20250426T095000
DTEND;TZID=UTC:20250426T125000
DTSTAMP:20260424T175128
CREATED:20250213T184509Z
LAST-MODIFIED:20250213T184509Z
UID:3190-1745661000-1745671800@southcarolinabluebirds.org
SUMMARY:Master Gardeners Plant Sale | Aiken\, SC
DESCRIPTION:
URL:https://southcarolinabluebirds.org/event/master-gardeners-plant-sale-aiken-sc/
CATEGORIES:Presentations
END:VEVENT
BEGIN:VEVENT
DTSTART;TZID=UTC:20250429T140000
DTEND;TZID=UTC:20250429T150000
DTSTAMP:20260424T175128
CREATED:20240820T150615Z
LAST-MODIFIED:20240820T150615Z
UID:3083-1745935200-1745938800@southcarolinabluebirds.org
SUMMARY:The Garden Club of Georgia\, inc. | Augusta\, Ga.
DESCRIPTION:
URL:https://southcarolinabluebirds.org/event/the-garden-club-of-georgia-inc-augusta-ga-2/
CATEGORIES:Presentations
END:VEVENT
BEGIN:VEVENT
DTSTART;TZID=UTC:20250429T140000
DTEND;TZID=UTC:20250429T150000
DTSTAMP:20260424T175128
CREATED:20250128T160149Z
LAST-MODIFIED:20250128T160149Z
UID:3172-1745935200-1745938800@southcarolinabluebirds.org
SUMMARY:Holmes Educational State Forest | Hendersonville\,  NC
DESCRIPTION:
URL:https://southcarolinabluebirds.org/event/holmes-educational-state-forest-hendersonville-nc/
CATEGORIES:Presentations
END:VEVENT
END:VCALENDAR