BEGIN:VCALENDAR
VERSION:2.0
PRODID:-//South Carolina Bluebird Society - ECPv6.15.20//NONSGML v1.0//EN
CALSCALE:GREGORIAN
METHOD:PUBLISH
X-ORIGINAL-URL:https://southcarolinabluebirds.org
X-WR-CALDESC:Events for South Carolina Bluebird Society
REFRESH-INTERVAL;VALUE=DURATION:PT1H
X-Robots-Tag:noindex
X-PUBLISHED-TTL:PT1H
BEGIN:VTIMEZONE
TZID:UTC
BEGIN:STANDARD
TZOFFSETFROM:+0000
TZOFFSETTO:+0000
TZNAME:UTC
DTSTART:20240101T000000
END:STANDARD
END:VTIMEZONE
BEGIN:VEVENT
DTSTART;VALUE=DATE:20251108
DTEND;VALUE=DATE:20251109
DTSTAMP:20260424T082219
CREATED:20250520T201952Z
LAST-MODIFIED:20250520T201952Z
UID:3324-1762560000-1762646399@southcarolinabluebirds.org
SUMMARY:OLLI | Beaufort Beaufort\, SC
DESCRIPTION:
URL:https://southcarolinabluebirds.org/event/olli-beaufort-beaufort-sc/
CATEGORIES:Presentations
END:VEVENT
END:VCALENDAR