BEGIN:VCALENDAR
VERSION:2.0
PRODID:-//South Carolina Bluebird Society - ECPv6.15.20//NONSGML v1.0//EN
CALSCALE:GREGORIAN
METHOD:PUBLISH
X-ORIGINAL-URL:https://southcarolinabluebirds.org
X-WR-CALDESC:Events for South Carolina Bluebird Society
REFRESH-INTERVAL;VALUE=DURATION:PT1H
X-Robots-Tag:noindex
X-PUBLISHED-TTL:PT1H
BEGIN:VTIMEZONE
TZID:UTC
BEGIN:STANDARD
TZOFFSETFROM:+0000
TZOFFSETTO:+0000
TZNAME:UTC
DTSTART:20250101T000000
END:STANDARD
END:VTIMEZONE
BEGIN:VEVENT
DTSTART;TZID=UTC:20260105T113000
DTEND;TZID=UTC:20260105T123000
DTSTAMP:20260422T014900
CREATED:20251015T180000Z
LAST-MODIFIED:20251015T180000Z
UID:4093-1767612600-1767616200@southcarolinabluebirds.org
SUMMARY:Kershaw Master Gardeners | Camden\, SC
DESCRIPTION:
URL:https://southcarolinabluebirds.org/event/kershaw-master-gardeners-camden-sc/
CATEGORIES:Presentations
END:VEVENT
BEGIN:VEVENT
DTSTART;VALUE=DATE:20260106
DTEND;VALUE=DATE:20260107
DTSTAMP:20260422T014900
CREATED:20250506T191714Z
LAST-MODIFIED:20250506T191714Z
UID:3315-1767657600-1767743999@southcarolinabluebirds.org
SUMMARY:Forget Me Not Garden Club | Florence\, SC
DESCRIPTION:
URL:https://southcarolinabluebirds.org/event/forget-me-not-garden-club-florence-sc/
CATEGORIES:Presentations
END:VEVENT
BEGIN:VEVENT
DTSTART;VALUE=DATE:20260107
DTEND;VALUE=DATE:20260108
DTSTAMP:20260422T014900
CREATED:20250506T191646Z
LAST-MODIFIED:20250506T191646Z
UID:3313-1767744000-1767830399@southcarolinabluebirds.org
SUMMARY:Lexington County Garden Club | Lexington\, SC
DESCRIPTION:
URL:https://southcarolinabluebirds.org/event/lexington-county-garden-club-lexington-sc/
CATEGORIES:Presentations
END:VEVENT
BEGIN:VEVENT
DTSTART;TZID=UTC:20260110T100000
DTEND;TZID=UTC:20260110T110000
DTSTAMP:20260422T014900
CREATED:20250616T193440Z
LAST-MODIFIED:20250616T193440Z
UID:3626-1768039200-1768042800@southcarolinabluebirds.org
SUMMARY:Fountain Inn Garden Club | Fountain Inn\, SC
DESCRIPTION:
URL:https://southcarolinabluebirds.org/event/fountain-inn-garden-club-fountain-inn-sc/
CATEGORIES:Presentations
END:VEVENT
BEGIN:VEVENT
DTSTART;TZID=UTC:20260114T100000
DTEND;TZID=UTC:20260114T110000
DTSTAMP:20260422T014900
CREATED:20250524T164147Z
LAST-MODIFIED:20250524T164233Z
UID:3474-1768384800-1768388400@southcarolinabluebirds.org
SUMMARY:Pine Needle Garden Club | Aiken\, SC
DESCRIPTION:
URL:https://southcarolinabluebirds.org/event/pine-needle-garden-club-aiken-sc/
CATEGORIES:Presentations
END:VEVENT
BEGIN:VEVENT
DTSTART;TZID=UTC:20260117T100000
DTEND;TZID=UTC:20260117T110000
DTSTAMP:20260422T014900
CREATED:20250622T114601Z
LAST-MODIFIED:20250622T114613Z
UID:3632-1768644000-1768647600@southcarolinabluebirds.org
SUMMARY:Wild Birds Unlimited - Surfside Beach\, SC
DESCRIPTION:
URL:https://southcarolinabluebirds.org/event/wild-birds-unlimited-surfside-beach-sc-2/
CATEGORIES:Presentations
END:VEVENT
BEGIN:VEVENT
DTSTART;TZID=UTC:20260117T104000
DTEND;TZID=UTC:20260117T114000
DTSTAMP:20260422T014900
CREATED:20250820T170745Z
LAST-MODIFIED:20250821T142044Z
UID:3776-1768646400-1768650000@southcarolinabluebirds.org
SUMMARY:Etta Greer Garden Club | Pelzer\, SC
DESCRIPTION:
URL:https://southcarolinabluebirds.org/event/etta-greer-garden-club-pelzer-sc/
CATEGORIES:Presentations
END:VEVENT
BEGIN:VEVENT
DTSTART;TZID=UTC:20260118T100000
DTEND;TZID=UTC:20260118T110000
DTSTAMP:20260422T014900
CREATED:20250622T114733Z
LAST-MODIFIED:20250622T114733Z
UID:3636-1768730400-1768734000@southcarolinabluebirds.org
SUMMARY:Wild Birds Unlimited - Mt. Pleasant\, SC
DESCRIPTION:
URL:https://southcarolinabluebirds.org/event/wild-birds-unlimited-mt-pleasant-sc-2/
CATEGORIES:Presentations
END:VEVENT
BEGIN:VEVENT
DTSTART;TZID=UTC:20260120T140000
DTEND;TZID=UTC:20260120T150000
DTSTAMP:20260422T014900
CREATED:20251006T113225Z
LAST-MODIFIED:20251006T113225Z
UID:4086-1768917600-1768921200@southcarolinabluebirds.org
SUMMARY:Darlington SC Garden Club | Darlington SC
DESCRIPTION:
URL:https://southcarolinabluebirds.org/event/darlington-sc-garden-club-darlington-sc/
CATEGORIES:Presentations
END:VEVENT
BEGIN:VEVENT
DTSTART;TZID=UTC:20260121T100000
DTEND;TZID=UTC:20260121T110000
DTSTAMP:20260422T014900
CREATED:20250728T130735Z
LAST-MODIFIED:20250728T130735Z
UID:3663-1768989600-1768993200@southcarolinabluebirds.org
SUMMARY:Manning Garden Club  | Manning\, SC
DESCRIPTION:
URL:https://southcarolinabluebirds.org/event/manning-garden-club-manning-sc/
CATEGORIES:Presentations
END:VEVENT
BEGIN:VEVENT
DTSTART;TZID=UTC:20260121T123000
DTEND;TZID=UTC:20260121T133000
DTSTAMP:20260422T014900
CREATED:20250407T170311Z
LAST-MODIFIED:20250407T170311Z
UID:3281-1768998600-1769002200@southcarolinabluebirds.org
SUMMARY:St William Garden Club | Columbia\, SC
DESCRIPTION:
URL:https://southcarolinabluebirds.org/event/st-william-garden-club-columbia-sc/
CATEGORIES:Presentations
END:VEVENT
END:VCALENDAR