BEGIN:VCALENDAR
VERSION:2.0
PRODID:-//South Carolina Bluebird Society - ECPv6.15.20//NONSGML v1.0//EN
CALSCALE:GREGORIAN
METHOD:PUBLISH
X-WR-CALNAME:South Carolina Bluebird Society
X-ORIGINAL-URL:https://southcarolinabluebirds.org
X-WR-CALDESC:Events for South Carolina Bluebird Society
REFRESH-INTERVAL;VALUE=DURATION:PT1H
X-Robots-Tag:noindex
X-PUBLISHED-TTL:PT1H
BEGIN:VTIMEZONE
TZID:UTC
BEGIN:STANDARD
TZOFFSETFROM:+0000
TZOFFSETTO:+0000
TZNAME:UTC
DTSTART:20250101T000000
END:STANDARD
END:VTIMEZONE
BEGIN:VEVENT
DTSTART;TZID=UTC:20260204T160000
DTEND;TZID=UTC:20260204T170000
DTSTAMP:20260422T014620
CREATED:20250622T114656Z
LAST-MODIFIED:20250622T114656Z
UID:3634-1770220800-1770224400@southcarolinabluebirds.org
SUMMARY:Loris Garden Club | Loris\, SC
DESCRIPTION:
URL:https://southcarolinabluebirds.org/event/loris-garden-club-loris-sc/
CATEGORIES:Presentations
END:VEVENT
BEGIN:VEVENT
DTSTART;TZID=UTC:20260207T080000
DTEND;TZID=UTC:20260207T170000
DTSTAMP:20260422T014620
CREATED:20251202T084613Z
LAST-MODIFIED:20251202T084613Z
UID:4133-1770451200-1770483600@southcarolinabluebirds.org
SUMMARY:Cold Creek Nursery | Aiken\, SC
DESCRIPTION:
URL:https://southcarolinabluebirds.org/event/cold-creek-nursery-aiken-sc-2/
CATEGORIES:Presentations
END:VEVENT
BEGIN:VEVENT
DTSTART;TZID=UTC:20260207T100000
DTEND;TZID=UTC:20260207T110000
DTSTAMP:20260422T014620
CREATED:20250707T184843Z
LAST-MODIFIED:20250707T184843Z
UID:3641-1770458400-1770462000@southcarolinabluebirds.org
SUMMARY:WBU Augusta | Augusta\, GA
DESCRIPTION:
URL:https://southcarolinabluebirds.org/event/wbu-augusta-augusta-ga-4/
CATEGORIES:Presentations
END:VEVENT
BEGIN:VEVENT
DTSTART;TZID=UTC:20260211T100000
DTEND;TZID=UTC:20260211T230000
DTSTAMP:20260422T014620
CREATED:20250707T184916Z
LAST-MODIFIED:20250707T184916Z
UID:3643-1770804000-1770850800@southcarolinabluebirds.org
SUMMARY:Georgetown Garden Club | Georgetown\, SC
DESCRIPTION:
URL:https://southcarolinabluebirds.org/event/georgetown-garden-club-georgetown-sc/
CATEGORIES:Presentations
END:VEVENT
BEGIN:VEVENT
DTSTART;TZID=UTC:20260211T140000
DTEND;TZID=UTC:20260211T150000
DTSTAMP:20260422T014620
CREATED:20250401T100000Z
LAST-MODIFIED:20250401T100000Z
UID:3278-1770818400-1770822000@southcarolinabluebirds.org
SUMMARY:Wildwood Garden Club | Florence\, SC
DESCRIPTION:
URL:https://southcarolinabluebirds.org/event/wildwood-garden-club-florence-sc/
CATEGORIES:Presentations
END:VEVENT
BEGIN:VEVENT
DTSTART;TZID=UTC:20260218T100000
DTEND;TZID=UTC:20260218T110000
DTSTAMP:20260422T014620
CREATED:20250411T200606Z
LAST-MODIFIED:20250411T200606Z
UID:3286-1771408800-1771412400@southcarolinabluebirds.org
SUMMARY:Country Gardeners Garden Club | Aiken\, SC
DESCRIPTION:
URL:https://southcarolinabluebirds.org/event/country-gardeners-garden-club-aiken-sc/
CATEGORIES:Presentations
END:VEVENT
BEGIN:VEVENT
DTSTART;TZID=UTC:20260218T150000
DTEND;TZID=UTC:20260218T160000
DTSTAMP:20260422T014620
CREATED:20251028T194622Z
LAST-MODIFIED:20251028T194622Z
UID:4096-1771426800-1771430400@southcarolinabluebirds.org
SUMMARY:Dataw Island Conservancy | Dataw Island\, SC
DESCRIPTION:
URL:https://southcarolinabluebirds.org/event/dataw-island-conservancy-dataw-island-sc/
CATEGORIES:Presentations
END:VEVENT
BEGIN:VEVENT
DTSTART;TZID=UTC:20260219T100000
DTEND;TZID=UTC:20260219T110000
DTSTAMP:20260422T014620
CREATED:20260213T202838Z
LAST-MODIFIED:20260213T202838Z
UID:4193-1771495200-1771498800@southcarolinabluebirds.org
SUMMARY:Laurens Road Garden Club   | Greenville\, SC
DESCRIPTION:
URL:https://southcarolinabluebirds.org/event/laurens-road-garden-club-greenville-sc/
CATEGORIES:Presentations
END:VEVENT
BEGIN:VEVENT
DTSTART;TZID=UTC:20260219T140000
DTEND;TZID=UTC:20260219T150000
DTSTAMP:20260422T014620
CREATED:20250606T155203Z
LAST-MODIFIED:20250606T155203Z
UID:3623-1771509600-1771513200@southcarolinabluebirds.org
SUMMARY:Azalea Garden Club | Greer\, SC
DESCRIPTION:
URL:https://southcarolinabluebirds.org/event/azalea-garden-club-greer-sc/
CATEGORIES:Presentations
END:VEVENT
BEGIN:VEVENT
DTSTART;TZID=UTC:20260220T130000
DTEND;TZID=UTC:20260220T140000
DTSTAMP:20260422T014620
CREATED:20250606T155045Z
LAST-MODIFIED:20250606T155045Z
UID:3619-1771592400-1771596000@southcarolinabluebirds.org
SUMMARY:Pine Forest Garden Club | Baxley\, SC
DESCRIPTION:
URL:https://southcarolinabluebirds.org/event/pine-forest-garden-club-baxley-sc/
CATEGORIES:Presentations
END:VEVENT
BEGIN:VEVENT
DTSTART;TZID=UTC:20260221T100000
DTEND;TZID=UTC:20260221T110000
DTSTAMP:20260422T014620
CREATED:20251009T190221Z
LAST-MODIFIED:20251009T190221Z
UID:4088-1771668000-1771671600@southcarolinabluebirds.org
SUMMARY:Wingard's Market | Lexington\, SC
DESCRIPTION:
URL:https://southcarolinabluebirds.org/event/wingards-market-lexington-sc/
CATEGORIES:Presentations
END:VEVENT
BEGIN:VEVENT
DTSTART;TZID=UTC:20260221T140000
DTEND;TZID=UTC:20260221T150000
DTSTAMP:20260422T014620
CREATED:20260128T190356Z
LAST-MODIFIED:20260128T190356Z
UID:4173-1771682400-1771686000@southcarolinabluebirds.org
SUMMARY:Summers Corner Bluebird Brigade | Summers Corner\, SC
DESCRIPTION:
URL:https://southcarolinabluebirds.org/event/summers-corner-bluebird-brigade-summers-corner-sc/
CATEGORIES:Presentations
END:VEVENT
BEGIN:VEVENT
DTSTART;TZID=UTC:20260225T110000
DTEND;TZID=UTC:20260225T120000
DTSTAMP:20260422T014620
CREATED:20260213T202919Z
LAST-MODIFIED:20260213T202919Z
UID:4195-1772017200-1772020800@southcarolinabluebirds.org
SUMMARY:Myrtle Beach Garden Club  | Myrtle Beach\, SC
DESCRIPTION:
URL:https://southcarolinabluebirds.org/event/myrtle-beach-garden-club-myrtle-beach-sc/
CATEGORIES:Presentations
END:VEVENT
BEGIN:VEVENT
DTSTART;TZID=UTC:20260228T110000
DTEND;TZID=UTC:20260228T120000
DTSTAMP:20260422T014620
CREATED:20250918T155543Z
LAST-MODIFIED:20250918T155543Z
UID:4079-1772276400-1772280000@southcarolinabluebirds.org
SUMMARY:Beaufort County Library | Beaufort\, SC
DESCRIPTION:
URL:https://southcarolinabluebirds.org/event/beaufort-county-library-beaufort-sc/
CATEGORIES:Presentations
END:VEVENT
END:VCALENDAR